BEGIN:VCALENDAR
VERSION:2.0
PRODID:-//Thomas Beaver Free Library - ECPv6.15.15//NONSGML v1.0//EN
CALSCALE:GREGORIAN
METHOD:PUBLISH
X-WR-CALNAME:Thomas Beaver Free Library
X-ORIGINAL-URL:https://tbflibrary.org
X-WR-CALDESC:Events for Thomas Beaver Free Library
REFRESH-INTERVAL;VALUE=DURATION:PT1H
X-Robots-Tag:noindex
X-PUBLISHED-TTL:PT1H
BEGIN:VTIMEZONE
TZID:America/New_York
BEGIN:DAYLIGHT
TZOFFSETFROM:-0500
TZOFFSETTO:-0400
TZNAME:EDT
DTSTART:20250309T070000
END:DAYLIGHT
BEGIN:STANDARD
TZOFFSETFROM:-0400
TZOFFSETTO:-0500
TZNAME:EST
DTSTART:20251102T060000
END:STANDARD
BEGIN:DAYLIGHT
TZOFFSETFROM:-0500
TZOFFSETTO:-0400
TZNAME:EDT
DTSTART:20260308T070000
END:DAYLIGHT
BEGIN:STANDARD
TZOFFSETFROM:-0400
TZOFFSETTO:-0500
TZNAME:EST
DTSTART:20261101T060000
END:STANDARD
BEGIN:DAYLIGHT
TZOFFSETFROM:-0500
TZOFFSETTO:-0400
TZNAME:EDT
DTSTART:20270314T070000
END:DAYLIGHT
BEGIN:STANDARD
TZOFFSETFROM:-0400
TZOFFSETTO:-0500
TZNAME:EST
DTSTART:20271107T060000
END:STANDARD
END:VTIMEZONE
BEGIN:VEVENT
DTSTART;TZID=America/New_York:20260410T103000
DTEND;TZID=America/New_York:20260410T233000
DTSTAMP:20260421T053517
CREATED:20240201T150648Z
LAST-MODIFIED:20260117T194749Z
UID:10007611-1775817000-1775863800@tbflibrary.org
SUMMARY:Play Time for Toddlers
DESCRIPTION:Every Friday\, we will gather in the Community Room for Play Time for children under four. Enjoy playing with the various toys and activities and socializing and making new friends. It’s fun for parents and caregivers too! And you don’t have to clean up!
URL:https://tbflibrary.org/event/play-time-for-toddlers/2026-04-10/
LOCATION:Thomas Beaver Free Library\, 317 Ferry Street\, Danville\, PA\, 17521\, United States
CATEGORIES:Children,Toddlers
ATTACH;FMTTYPE=image/png:https://tbflibrary.org/wp-content/uploads/2024/02/hw-club-1080-x-1080-px-1.png
ORGANIZER;CN="Thomas Beaver Free Library":MAILTO:tbflstaff@ptd.net
END:VEVENT
BEGIN:VEVENT
DTSTART;TZID=America/New_York:20260409T183000
DTEND;TZID=America/New_York:20260409T200000
DTSTAMP:20260421T053517
CREATED:20260117T185538Z
LAST-MODIFIED:20260117T194054Z
UID:10008760-1775759400-1775764800@tbflibrary.org
SUMMARY:Left Behind Sudden Loss Grief Club
DESCRIPTION:This peer support group is offered free of charge. Our goal is to provide a safe environment for adults to process the sudden loss of a loved one and feel less isolated in their pain. This is a quiet\, judgment-free space to sit with others who understand. No advice\, no pressure\, just shared presence\, gentle conversation\, and room to breathe.
URL:https://tbflibrary.org/event/left-behind-sudden-loss-grief-club/2026-04-09/
LOCATION:Thomas Beaver Free Library\, 317 Ferry Street\, Danville\, PA\, 17521\, United States
ORGANIZER;CN="Thomas Beaver Free Library":MAILTO:tbflstaff@ptd.net
END:VEVENT
BEGIN:VEVENT
DTSTART;TZID=America/New_York:20260409T170000
DTEND;TZID=America/New_York:20260409T193000
DTSTAMP:20260421T053517
CREATED:20260112T234530Z
LAST-MODIFIED:20260112T234531Z
UID:10004873-1775754000-1775763000@tbflibrary.org
SUMMARY:Chess Club
DESCRIPTION:Join us for a fun lively evening of chess! All levels and ages are welcome.
URL:https://tbflibrary.org/event/chess-club-at-the-thomas-beaver-free-library-2-2/2026-04-09/
LOCATION:Thomas Beaver Free Library\, 317 Ferry Street\, Danville\, PA\, 17521\, United States
CATEGORIES:Chess Club
ATTACH;FMTTYPE=image/png:https://tbflibrary.org/wp-content/uploads/2021/06/New-Chess-Graphic.png
ORGANIZER;CN="Thomas Beaver Free Library":MAILTO:tbflstaff@ptd.net
END:VEVENT
BEGIN:VEVENT
DTSTART;TZID=America/New_York:20260409T130000
DTEND;TZID=America/New_York:20260409T160000
DTSTAMP:20260421T053517
CREATED:20231207T163617Z
LAST-MODIFIED:20260113T000932Z
UID:10007454-1775739600-1775750400@tbflibrary.org
SUMMARY:Bridge Club
DESCRIPTION:Join fellow Bridge lovers and enjoy a weekly game that will keep your mind sharp and your sense of humor intact! \nCall us at 570-275-4180 if you have any questions!
URL:https://tbflibrary.org/event/bridge-club-2/2026-04-09/
LOCATION:Thomas Beaver Free Library\, 317 Ferry Street\, Danville\, PA\, 17521\, United States
CATEGORIES:Games / Leagues
ATTACH;FMTTYPE=image/png:https://tbflibrary.org/wp-content/uploads/2021/06/Bridge.png
ORGANIZER;CN="Thomas Beaver Free Library":MAILTO:tbflstaff@ptd.net
END:VEVENT
BEGIN:VEVENT
DTSTART;TZID=America/New_York:20260409T103000
DTEND;TZID=America/New_York:20260409T113000
DTSTAMP:20260421T053517
CREATED:20260113T000756Z
LAST-MODIFIED:20260117T192200Z
UID:10007191-1775730600-1775734200@tbflibrary.org
SUMMARY:Storytime with Miss Beth
DESCRIPTION:Drop by to enjoy Storytime with Miss Beth as she reads some of her favorite stories! \nChildren are invited to bring a favorite item for a brief show-and-tell\, then join us in the Children’s Room afterward for a relaxed Coloring Club with crayons and creativity.
URL:https://tbflibrary.org/event/storytime-with-miss-beth/2026-04-09/
LOCATION:Thomas Beaver Free Library\, 317 Ferry Street\, Danville\, PA\, 17521\, United States
CATEGORIES:Children,Story Time
ATTACH;FMTTYPE=image/png:https://tbflibrary.org/wp-content/uploads/2026/01/Story-time.png
ORGANIZER;CN="Thomas Beaver Free Library":MAILTO:tbflstaff@ptd.net
END:VEVENT
BEGIN:VEVENT
DTSTART;TZID=America/New_York:20260408T153000
DTEND;TZID=America/New_York:20260408T173000
DTSTAMP:20260421T053517
CREATED:20260112T234103Z
LAST-MODIFIED:20260117T192221Z
UID:10006669-1775662200-1775669400@tbflibrary.org
SUMMARY:Miss Kathleen's Krazy Kazoo Klub
DESCRIPTION:Join Miss Kathleen for a lively and laughter-filled kazoo club. Participants will learn simple rhythms and play songs together. Bring your own kazoo or use one provided by the library. Children ages 12 and under must be accompanied by an adult.
URL:https://tbflibrary.org/event/miss-kathleens-krazy-kazoo-klub/2026-04-08/
LOCATION:Thomas Beaver Free Library\, 317 Ferry Street\, Danville\, PA\, 17521\, United States
ATTACH;FMTTYPE=image/png:https://tbflibrary.org/wp-content/uploads/2026/01/Copy-of-Miss-Kathleens-2.png
ORGANIZER;CN="Thomas Beaver Free Library":MAILTO:tbflstaff@ptd.net
END:VEVENT
BEGIN:VEVENT
DTSTART;TZID=America/New_York:20260408T130000
DTEND;TZID=America/New_York:20260408T170000
DTSTAMP:20260421T053517
CREATED:20260112T235533Z
LAST-MODIFIED:20260117T192244Z
UID:10006930-1775653200-1775667600@tbflibrary.org
SUMMARY:Twisted Stitches
DESCRIPTION:Share your love of knitting\, crocheting\, or needlework with others. All levels are welcome! Drop in anytime\, leave when you want
URL:https://tbflibrary.org/event/twisted-stitches/2026-04-08/
LOCATION:Thomas Beaver Free Library\, 317 Ferry Street\, Danville\, PA\, 17521\, United States
CATEGORIES:Hobbies / Crafts
ATTACH;FMTTYPE=image/png:https://tbflibrary.org/wp-content/uploads/2026/01/Copy-of-Twisted-Stitches-1920-x-1080-px-1.png
ORGANIZER;CN="Thomas Beaver Free Library":MAILTO:tbflstaff@ptd.net
END:VEVENT
BEGIN:VEVENT
DTSTART;TZID=America/New_York:20260408T130000
DTEND;TZID=America/New_York:20260408T150000
DTSTAMP:20260421T053517
CREATED:20240130T162858Z
LAST-MODIFIED:20260112T232525Z
UID:10006566-1775653200-1775660400@tbflibrary.org
SUMMARY:Mahjong - Wednesdays
DESCRIPTION:Join your friends for a challenging game of Mahjong every Monday and Wednesday from 1:00 pm to 3:00 pm in the Peters Community Room.
URL:https://tbflibrary.org/event/mahjong-wednesdays/2026-04-08/
LOCATION:Thomas Beaver Free Library\, 317 Ferry Street\, Danville\, PA\, 17521\, United States
CATEGORIES:Games / Leagues
ATTACH;FMTTYPE=image/png:https://tbflibrary.org/wp-content/uploads/2021/06/Mahjong-09-2022.png
ORGANIZER;CN="Thomas Beaver Free Library":MAILTO:tbflstaff@ptd.net
END:VEVENT
BEGIN:VEVENT
DTSTART;TZID=America/New_York:20260407T150000
DTEND;TZID=America/New_York:20260407T163000
DTSTAMP:20260421T053517
CREATED:20250826T142546Z
LAST-MODIFIED:20260117T194357Z
UID:10006223-1775574000-1775579400@tbflibrary.org
SUMMARY:Homework Club
DESCRIPTION:As an after-school program\, we’ll transform our community room to a hangout area. Listen to music\, play games\, sit back\, and hangout with friends! Snacks provided! Perfect for middle and high schoolers.
URL:https://tbflibrary.org/event/homework-club-every-tuesday-2-2/2026-04-07/
LOCATION:Thomas Beaver Free Library\, 317 Ferry Street\, Danville\, PA\, 17521\, United States
CATEGORIES:Children
ATTACH;FMTTYPE=image/png:https://tbflibrary.org/wp-content/uploads/2025/08/hw-club-1080-x-1080-px.png
ORGANIZER;CN="Thomas Beaver Free Library":MAILTO:tbflstaff@ptd.net
END:VEVENT
BEGIN:VEVENT
DTSTART;TZID=America/New_York:20260406T183000
DTEND;TZID=America/New_York:20260406T200000
DTSTAMP:20260421T053517
CREATED:20240425T190531Z
LAST-MODIFIED:20260117T194121Z
UID:10005224-1775500200-1775505600@tbflibrary.org
SUMMARY:Talking Circle
DESCRIPTION:A Talking Circle is a regular gathering where individuals can come together to share their experiences and to listen to others. \nOur Talking Circle is open to all. We welcome individuals from all backgrounds and walks of life\, whether you’re looking to connect with others\, share your experiences\, or simply listen and learn from others.
URL:https://tbflibrary.org/event/talking-circle-2/2026-04-06/
LOCATION:Thomas Beaver Free Library\, 317 Ferry Street\, Danville\, PA\, 17521\, United States
ATTACH;FMTTYPE=image/png:https://tbflibrary.org/wp-content/uploads/2024/10/Talking-Circle-2025.png
ORGANIZER;CN="Thomas Beaver Free Library":MAILTO:tbflstaff@ptd.net
END:VEVENT
BEGIN:VEVENT
DTSTART;TZID=America/New_York:20260406T173000
DTEND;TZID=America/New_York:20260406T183000
DTSTAMP:20260421T053517
CREATED:20260112T231953Z
LAST-MODIFIED:20260117T192310Z
UID:10006304-1775496600-1775500200@tbflibrary.org
SUMMARY:Eating Disorders Anonymous
DESCRIPTION:Are food\, body image obsession\, or dysfunctional eating behaviors making your life unmanageable? Eating Disorders Anonymous can help. We are a 12 Step based recovery program for people with any type of eating disorder. All are welcome.
URL:https://tbflibrary.org/event/eating-disorders-anonymous/2026-04-06/
LOCATION:Thomas Beaver Free Library\, 317 Ferry Street\, Danville\, PA\, 17521\, United States
ATTACH;FMTTYPE=image/png:https://tbflibrary.org/wp-content/uploads/2026/01/Eating-Disorder-Anonymous-1080-x-1080-px.png
ORGANIZER;CN="Thomas Beaver Free Library":MAILTO:tbflstaff@ptd.net
END:VEVENT
BEGIN:VEVENT
DTSTART;TZID=America/New_York:20260406T103000
DTEND;TZID=America/New_York:20260406T113000
DTSTAMP:20260421T053517
CREATED:20260114T002600Z
LAST-MODIFIED:20260117T192046Z
UID:10007765-1775471400-1775475000@tbflibrary.org
SUMMARY:D&D Homeschool Guild
DESCRIPTION:Spark curiosity\, cultivate confidence and send your child off to battle a dragon!\n\nThe Lost Mine of Phandelver (Dungeons & Dragons): A weekly story game quest for 11-18 year old homeschooled adventurers.\n\n\nEncourages creative writing\, problem-solving\, math\, engineering and teamwork all while having fun.\nWhat to bring: Imagination! Dice and character sheets supplied. Or bring your own 1st level character.\n\nMondays 10:30-11:30 at the Thomas Beaver Library.
URL:https://tbflibrary.org/event/dd-homeschool-guild/2026-04-06/
LOCATION:Thomas Beaver Free Library\, 317 Ferry Street\, Danville\, PA\, 17521\, United States
CATEGORIES:Hobbies / Crafts
ATTACH;FMTTYPE=image/jpeg:https://tbflibrary.org/wp-content/uploads/2026/01/598833296_2263890944092353_2233144947845401421_n.jpg
ORGANIZER;CN="Thomas Beaver Free Library":MAILTO:tbflstaff@ptd.net
END:VEVENT
BEGIN:VEVENT
DTSTART;TZID=America/New_York:20260406T100000
DTEND;TZID=America/New_York:20260406T120000
DTSTAMP:20260421T053517
CREATED:20260112T230701Z
LAST-MODIFIED:20260411T163553Z
UID:10009502-1775469600-1775476800@tbflibrary.org
SUMMARY:Learning Den
DESCRIPTION:Part hangout\, part learning lab\, the Learning Den is a space where stories are shared\, ideas take root\, and friendships grow. \nEach week at the Learning Den is intentionally unstructured so homeschool children and families can explore games\, art supplies\, and STEM tools at their own pace. Kids can play independently or collaborate with friends\, or jump as they wish. Parents or caregivers remain on-site and are welcome to relax\, chat\, or even guide activities if inspiration strikes. There are no formal lesson plans\, no cost\, and no registration. The focus is on social time\, creative\nplay\, and building community in a welcoming environment.
URL:https://tbflibrary.org/event/learning-den-2-2/2026-04-06/
LOCATION:Thomas Beaver Free Library\, 317 Ferry Street\, Danville\, PA\, 17521\, United States
CATEGORIES:Children,Hobbies / Crafts,Toddlers
ATTACH;FMTTYPE=image/png:https://tbflibrary.org/wp-content/uploads/2025/09/Orange-and-White-Simple-Lets-Get-Cosy-Fall-Poster-2.png
ORGANIZER;CN="Thomas Beaver Free Library":MAILTO:tbflstaff@ptd.net
END:VEVENT
BEGIN:VEVENT
DTSTART;TZID=America/New_York:20260403T103000
DTEND;TZID=America/New_York:20260403T233000
DTSTAMP:20260421T053517
CREATED:20240201T150648Z
LAST-MODIFIED:20260117T194749Z
UID:10007610-1775212200-1775259000@tbflibrary.org
SUMMARY:Play Time for Toddlers
DESCRIPTION:Every Friday\, we will gather in the Community Room for Play Time for children under four. Enjoy playing with the various toys and activities and socializing and making new friends. It’s fun for parents and caregivers too! And you don’t have to clean up!
URL:https://tbflibrary.org/event/play-time-for-toddlers/2026-04-03/
LOCATION:Thomas Beaver Free Library\, 317 Ferry Street\, Danville\, PA\, 17521\, United States
CATEGORIES:Children,Toddlers
ATTACH;FMTTYPE=image/png:https://tbflibrary.org/wp-content/uploads/2024/02/hw-club-1080-x-1080-px-1.png
ORGANIZER;CN="Thomas Beaver Free Library":MAILTO:tbflstaff@ptd.net
END:VEVENT
BEGIN:VEVENT
DTSTART;TZID=America/New_York:20260402T180000
DTEND;TZID=America/New_York:20260402T193000
DTSTAMP:20260421T053517
CREATED:20260227T182419Z
LAST-MODIFIED:20260227T182419Z
UID:10009424-1775152800-1775158200@tbflibrary.org
SUMMARY:STEM Night At the Den
DESCRIPTION:Join us for STEM Night at The Den on the first Thursday of each month at the Thomas Beaver Free Library.\n\n\nInspired by the curiosity-driven exploration at the heart of our Learning Den program\, this monthly evening gathering offers an accessible evening option for families and learners throughout our community.\n\n\nThrough thoughtful\, open-ended investigations\, participants engage in hands-on scientific exploration designed to spark curiosity and deepen understanding. Activities are created with elementary-aged learners in mind\, while remaining welcoming to older and younger participants.\n\n\nChildren and caregivers work side by side\, creating space for experimentation\, creative problem-solving\, and genuine connection with other families.\n\n\nNo fees. No registration. Simply drop in during program hours and take part.
URL:https://tbflibrary.org/event/stem-night-at-the-den/2026-04-02/
LOCATION:Thomas Beaver Free Library\, 317 Ferry Street\, Danville\, PA\, 17521\, United States
CATEGORIES:Children,Hobbies / Crafts
ATTACH;FMTTYPE=image/png:https://tbflibrary.org/wp-content/uploads/2026/02/Blue-Bold-Abstract-Organic-Flower-Quote-Art-Poster-1080-x-1080-px.png
ORGANIZER;CN="Thomas Beaver Free Library":MAILTO:tbflstaff@ptd.net
END:VEVENT
BEGIN:VEVENT
DTSTART;TZID=America/New_York:20260402T180000
DTEND;TZID=America/New_York:20260402T190000
DTSTAMP:20260421T053517
CREATED:20260117T185013Z
LAST-MODIFIED:20260117T185013Z
UID:10008699-1775152800-1775156400@tbflibrary.org
SUMMARY:YA Book Club
DESCRIPTION:Each month features a new category to inspire your next great read! Whether you’re here to discuss\, share your thoughts\, or just listen in\, everyone is welcome at their own comfort level. \nAll ages are invited—as long as the book is Young Adult (YA)!
URL:https://tbflibrary.org/event/ya-book-club/2026-04-02/
LOCATION:Thomas Beaver Free Library\, 317 Ferry Street\, Danville\, PA\, 17521\, United States
CATEGORIES:Book Lovers
ATTACH;FMTTYPE=image/png:https://tbflibrary.org/wp-content/uploads/2026/01/Copy-of-Pink-Orange-Green-Colorful-Book-Club-Flyer-1.png
END:VEVENT
BEGIN:VEVENT
DTSTART;TZID=America/New_York:20260402T170000
DTEND;TZID=America/New_York:20260402T193000
DTSTAMP:20260421T053517
CREATED:20260112T234530Z
LAST-MODIFIED:20260112T234531Z
UID:10004872-1775149200-1775158200@tbflibrary.org
SUMMARY:Chess Club
DESCRIPTION:Join us for a fun lively evening of chess! All levels and ages are welcome.
URL:https://tbflibrary.org/event/chess-club-at-the-thomas-beaver-free-library-2-2/2026-04-02/
LOCATION:Thomas Beaver Free Library\, 317 Ferry Street\, Danville\, PA\, 17521\, United States
CATEGORIES:Chess Club
ATTACH;FMTTYPE=image/png:https://tbflibrary.org/wp-content/uploads/2021/06/New-Chess-Graphic.png
ORGANIZER;CN="Thomas Beaver Free Library":MAILTO:tbflstaff@ptd.net
END:VEVENT
BEGIN:VEVENT
DTSTART;TZID=America/New_York:20260402T130000
DTEND;TZID=America/New_York:20260402T160000
DTSTAMP:20260421T053517
CREATED:20231207T163617Z
LAST-MODIFIED:20260113T000932Z
UID:10007453-1775134800-1775145600@tbflibrary.org
SUMMARY:Bridge Club
DESCRIPTION:Join fellow Bridge lovers and enjoy a weekly game that will keep your mind sharp and your sense of humor intact! \nCall us at 570-275-4180 if you have any questions!
URL:https://tbflibrary.org/event/bridge-club-2/2026-04-02/
LOCATION:Thomas Beaver Free Library\, 317 Ferry Street\, Danville\, PA\, 17521\, United States
CATEGORIES:Games / Leagues
ATTACH;FMTTYPE=image/png:https://tbflibrary.org/wp-content/uploads/2021/06/Bridge.png
ORGANIZER;CN="Thomas Beaver Free Library":MAILTO:tbflstaff@ptd.net
END:VEVENT
BEGIN:VEVENT
DTSTART;TZID=America/New_York:20260402T103000
DTEND;TZID=America/New_York:20260402T113000
DTSTAMP:20260421T053517
CREATED:20260113T000756Z
LAST-MODIFIED:20260117T192200Z
UID:10007190-1775125800-1775129400@tbflibrary.org
SUMMARY:Storytime with Miss Beth
DESCRIPTION:Drop by to enjoy Storytime with Miss Beth as she reads some of her favorite stories! \nChildren are invited to bring a favorite item for a brief show-and-tell\, then join us in the Children’s Room afterward for a relaxed Coloring Club with crayons and creativity.
URL:https://tbflibrary.org/event/storytime-with-miss-beth/2026-04-02/
LOCATION:Thomas Beaver Free Library\, 317 Ferry Street\, Danville\, PA\, 17521\, United States
CATEGORIES:Children,Story Time
ATTACH;FMTTYPE=image/png:https://tbflibrary.org/wp-content/uploads/2026/01/Story-time.png
ORGANIZER;CN="Thomas Beaver Free Library":MAILTO:tbflstaff@ptd.net
END:VEVENT
BEGIN:VEVENT
DTSTART;TZID=America/New_York:20260401T153000
DTEND;TZID=America/New_York:20260401T173000
DTSTAMP:20260421T053517
CREATED:20260112T234103Z
LAST-MODIFIED:20260117T192221Z
UID:10006668-1775057400-1775064600@tbflibrary.org
SUMMARY:Miss Kathleen's Krazy Kazoo Klub
DESCRIPTION:Join Miss Kathleen for a lively and laughter-filled kazoo club. Participants will learn simple rhythms and play songs together. Bring your own kazoo or use one provided by the library. Children ages 12 and under must be accompanied by an adult.
URL:https://tbflibrary.org/event/miss-kathleens-krazy-kazoo-klub/2026-04-01/
LOCATION:Thomas Beaver Free Library\, 317 Ferry Street\, Danville\, PA\, 17521\, United States
ATTACH;FMTTYPE=image/png:https://tbflibrary.org/wp-content/uploads/2026/01/Copy-of-Miss-Kathleens-2.png
ORGANIZER;CN="Thomas Beaver Free Library":MAILTO:tbflstaff@ptd.net
END:VEVENT
BEGIN:VEVENT
DTSTART;TZID=America/New_York:20260401T130000
DTEND;TZID=America/New_York:20260401T170000
DTSTAMP:20260421T053517
CREATED:20260112T235533Z
LAST-MODIFIED:20260117T192244Z
UID:10006929-1775048400-1775062800@tbflibrary.org
SUMMARY:Twisted Stitches
DESCRIPTION:Share your love of knitting\, crocheting\, or needlework with others. All levels are welcome! Drop in anytime\, leave when you want
URL:https://tbflibrary.org/event/twisted-stitches/2026-04-01/
LOCATION:Thomas Beaver Free Library\, 317 Ferry Street\, Danville\, PA\, 17521\, United States
CATEGORIES:Hobbies / Crafts
ATTACH;FMTTYPE=image/png:https://tbflibrary.org/wp-content/uploads/2026/01/Copy-of-Twisted-Stitches-1920-x-1080-px-1.png
ORGANIZER;CN="Thomas Beaver Free Library":MAILTO:tbflstaff@ptd.net
END:VEVENT
BEGIN:VEVENT
DTSTART;TZID=America/New_York:20260401T130000
DTEND;TZID=America/New_York:20260401T150000
DTSTAMP:20260421T053517
CREATED:20240130T162858Z
LAST-MODIFIED:20260112T232525Z
UID:10006565-1775048400-1775055600@tbflibrary.org
SUMMARY:Mahjong - Wednesdays
DESCRIPTION:Join your friends for a challenging game of Mahjong every Monday and Wednesday from 1:00 pm to 3:00 pm in the Peters Community Room.
URL:https://tbflibrary.org/event/mahjong-wednesdays/2026-04-01/
LOCATION:Thomas Beaver Free Library\, 317 Ferry Street\, Danville\, PA\, 17521\, United States
CATEGORIES:Games / Leagues
ATTACH;FMTTYPE=image/png:https://tbflibrary.org/wp-content/uploads/2021/06/Mahjong-09-2022.png
ORGANIZER;CN="Thomas Beaver Free Library":MAILTO:tbflstaff@ptd.net
END:VEVENT
BEGIN:VEVENT
DTSTART;TZID=America/New_York:20260331T150000
DTEND;TZID=America/New_York:20260331T163000
DTSTAMP:20260421T053517
CREATED:20250826T142546Z
LAST-MODIFIED:20260117T194357Z
UID:10006222-1774969200-1774974600@tbflibrary.org
SUMMARY:Homework Club
DESCRIPTION:As an after-school program\, we’ll transform our community room to a hangout area. Listen to music\, play games\, sit back\, and hangout with friends! Snacks provided! Perfect for middle and high schoolers.
URL:https://tbflibrary.org/event/homework-club-every-tuesday-2-2/2026-03-31/
LOCATION:Thomas Beaver Free Library\, 317 Ferry Street\, Danville\, PA\, 17521\, United States
CATEGORIES:Children
ATTACH;FMTTYPE=image/png:https://tbflibrary.org/wp-content/uploads/2025/08/hw-club-1080-x-1080-px.png
ORGANIZER;CN="Thomas Beaver Free Library":MAILTO:tbflstaff@ptd.net
END:VEVENT
BEGIN:VEVENT
DTSTART;TZID=America/New_York:20260330T173000
DTEND;TZID=America/New_York:20260330T183000
DTSTAMP:20260421T053517
CREATED:20260112T231953Z
LAST-MODIFIED:20260117T192310Z
UID:10006303-1774891800-1774895400@tbflibrary.org
SUMMARY:Eating Disorders Anonymous
DESCRIPTION:Are food\, body image obsession\, or dysfunctional eating behaviors making your life unmanageable? Eating Disorders Anonymous can help. We are a 12 Step based recovery program for people with any type of eating disorder. All are welcome.
URL:https://tbflibrary.org/event/eating-disorders-anonymous/2026-03-30/
LOCATION:Thomas Beaver Free Library\, 317 Ferry Street\, Danville\, PA\, 17521\, United States
ATTACH;FMTTYPE=image/png:https://tbflibrary.org/wp-content/uploads/2026/01/Eating-Disorder-Anonymous-1080-x-1080-px.png
ORGANIZER;CN="Thomas Beaver Free Library":MAILTO:tbflstaff@ptd.net
END:VEVENT
BEGIN:VEVENT
DTSTART;TZID=America/New_York:20260330T103000
DTEND;TZID=America/New_York:20260330T113000
DTSTAMP:20260421T053517
CREATED:20260114T002600Z
LAST-MODIFIED:20260117T192046Z
UID:10007764-1774866600-1774870200@tbflibrary.org
SUMMARY:D&D Homeschool Guild
DESCRIPTION:Spark curiosity\, cultivate confidence and send your child off to battle a dragon!\n\nThe Lost Mine of Phandelver (Dungeons & Dragons): A weekly story game quest for 11-18 year old homeschooled adventurers.\n\n\nEncourages creative writing\, problem-solving\, math\, engineering and teamwork all while having fun.\nWhat to bring: Imagination! Dice and character sheets supplied. Or bring your own 1st level character.\n\nMondays 10:30-11:30 at the Thomas Beaver Library.
URL:https://tbflibrary.org/event/dd-homeschool-guild/2026-03-30/
LOCATION:Thomas Beaver Free Library\, 317 Ferry Street\, Danville\, PA\, 17521\, United States
CATEGORIES:Hobbies / Crafts
ATTACH;FMTTYPE=image/jpeg:https://tbflibrary.org/wp-content/uploads/2026/01/598833296_2263890944092353_2233144947845401421_n.jpg
ORGANIZER;CN="Thomas Beaver Free Library":MAILTO:tbflstaff@ptd.net
END:VEVENT
BEGIN:VEVENT
DTSTART;TZID=America/New_York:20260330T100000
DTEND;TZID=America/New_York:20260330T120000
DTSTAMP:20260421T053517
CREATED:20260112T230701Z
LAST-MODIFIED:20260411T163553Z
UID:10006291-1774864800-1774872000@tbflibrary.org
SUMMARY:Learning Den
DESCRIPTION:Part hangout\, part learning lab\, the Learning Den is a space where stories are shared\, ideas take root\, and friendships grow. \nEach week at the Learning Den is intentionally unstructured so homeschool children and families can explore games\, art supplies\, and STEM tools at their own pace. Kids can play independently or collaborate with friends\, or jump as they wish. Parents or caregivers remain on-site and are welcome to relax\, chat\, or even guide activities if inspiration strikes. There are no formal lesson plans\, no cost\, and no registration. The focus is on social time\, creative\nplay\, and building community in a welcoming environment.
URL:https://tbflibrary.org/event/learning-den-2-2/2026-03-30/
LOCATION:Thomas Beaver Free Library\, 317 Ferry Street\, Danville\, PA\, 17521\, United States
CATEGORIES:Children,Hobbies / Crafts,Toddlers
ATTACH;FMTTYPE=image/png:https://tbflibrary.org/wp-content/uploads/2025/09/Orange-and-White-Simple-Lets-Get-Cosy-Fall-Poster-2.png
ORGANIZER;CN="Thomas Beaver Free Library":MAILTO:tbflstaff@ptd.net
END:VEVENT
BEGIN:VEVENT
DTSTART;TZID=America/New_York:20260328T100000
DTEND;TZID=America/New_York:20260328T120000
DTSTAMP:20260421T053517
CREATED:20260314T163652Z
LAST-MODIFIED:20260314T163652Z
UID:10009487-1774692000-1774699200@tbflibrary.org
SUMMARY:Book Discussion and Signing with Terry Diener
DESCRIPTION:Book Discussion & Signing with Terry Diener \nJoin us on Saturday\, March 28 from 10:00 AM to 12:00 PM at the Thomas Beaver Free Library for a special book discussion and signing with local historian and author Terry Diener. \nDiener will be discussing his newly released title\, Susquehanna Footprints through Montour County\, a thoughtful exploration of the people\, places\, and stories that have shaped our region. Attendees will have the opportunity to hear directly from the author\, ask questions\, and have copies of the book signed. \nThis event is free and open to the public. We hope you will join us for a morning celebrating local history and community.
URL:https://tbflibrary.org/event/book-discussion-and-signing-with-terry-diener/
LOCATION:Thomas Beaver Free Library\, 317 Ferry Street\, Danville\, PA\, 17521\, United States
CATEGORIES:Book Lovers
ATTACH;FMTTYPE=image/png:https://tbflibrary.org/wp-content/uploads/2026/03/Copy-of-Terry-Diener-Book-Signing-1.png
ORGANIZER;CN="Thomas Beaver Free Library":MAILTO:tbflstaff@ptd.net
END:VEVENT
BEGIN:VEVENT
DTSTART;TZID=America/New_York:20260327T103000
DTEND;TZID=America/New_York:20260327T233000
DTSTAMP:20260421T053517
CREATED:20240201T150648Z
LAST-MODIFIED:20260117T194749Z
UID:10007609-1774607400-1774654200@tbflibrary.org
SUMMARY:Play Time for Toddlers
DESCRIPTION:Every Friday\, we will gather in the Community Room for Play Time for children under four. Enjoy playing with the various toys and activities and socializing and making new friends. It’s fun for parents and caregivers too! And you don’t have to clean up!
URL:https://tbflibrary.org/event/play-time-for-toddlers/2026-03-27/
LOCATION:Thomas Beaver Free Library\, 317 Ferry Street\, Danville\, PA\, 17521\, United States
CATEGORIES:Children,Toddlers
ATTACH;FMTTYPE=image/png:https://tbflibrary.org/wp-content/uploads/2024/02/hw-club-1080-x-1080-px-1.png
ORGANIZER;CN="Thomas Beaver Free Library":MAILTO:tbflstaff@ptd.net
END:VEVENT
BEGIN:VEVENT
DTSTART;TZID=America/New_York:20260326T173000
DTEND;TZID=America/New_York:20260326T200000
DTSTAMP:20260421T053517
CREATED:20260117T190911Z
LAST-MODIFIED:20260117T193813Z
UID:10008882-1774546200-1774555200@tbflibrary.org
SUMMARY:Open Craft Night
DESCRIPTION:Our open craft night meets every fourth Thursday night from 5:30 to 7:45 PM. Drop in anytime\, leave when you want! Bring your un-started or unfinished crafts and work independently in the company of fellow crafters.
URL:https://tbflibrary.org/event/open-craft-night/2026-03-26/
LOCATION:Thomas Beaver Free Library\, 317 Ferry Street\, Danville\, PA\, 17521\, United States
CATEGORIES:Hobbies / Crafts
ATTACH;FMTTYPE=image/png:https://tbflibrary.org/wp-content/uploads/2026/01/Copy-of-Open-Craft-Night.png
END:VEVENT
BEGIN:VEVENT
DTSTART;TZID=America/New_York:20260326T170000
DTEND;TZID=America/New_York:20260326T193000
DTSTAMP:20260421T053517
CREATED:20260112T234530Z
LAST-MODIFIED:20260112T234531Z
UID:10004871-1774544400-1774553400@tbflibrary.org
SUMMARY:Chess Club
DESCRIPTION:Join us for a fun lively evening of chess! All levels and ages are welcome.
URL:https://tbflibrary.org/event/chess-club-at-the-thomas-beaver-free-library-2-2/2026-03-26/
LOCATION:Thomas Beaver Free Library\, 317 Ferry Street\, Danville\, PA\, 17521\, United States
CATEGORIES:Chess Club
ATTACH;FMTTYPE=image/png:https://tbflibrary.org/wp-content/uploads/2021/06/New-Chess-Graphic.png
ORGANIZER;CN="Thomas Beaver Free Library":MAILTO:tbflstaff@ptd.net
END:VEVENT
END:VCALENDAR