BEGIN:VCALENDAR
VERSION:2.0
PRODID:-//Thomas Beaver Free Library - ECPv6.15.15//NONSGML v1.0//EN
CALSCALE:GREGORIAN
METHOD:PUBLISH
X-ORIGINAL-URL:https://tbflibrary.org
X-WR-CALDESC:Events for Thomas Beaver Free Library
REFRESH-INTERVAL;VALUE=DURATION:PT1H
X-Robots-Tag:noindex
X-PUBLISHED-TTL:PT1H
BEGIN:VTIMEZONE
TZID:America/New_York
BEGIN:DAYLIGHT
TZOFFSETFROM:-0500
TZOFFSETTO:-0400
TZNAME:EDT
DTSTART:20290311T070000
END:DAYLIGHT
BEGIN:STANDARD
TZOFFSETFROM:-0400
TZOFFSETTO:-0500
TZNAME:EST
DTSTART:20291104T060000
END:STANDARD
BEGIN:DAYLIGHT
TZOFFSETFROM:-0500
TZOFFSETTO:-0400
TZNAME:EDT
DTSTART:20300310T070000
END:DAYLIGHT
BEGIN:STANDARD
TZOFFSETFROM:-0400
TZOFFSETTO:-0500
TZNAME:EST
DTSTART:20301103T060000
END:STANDARD
BEGIN:DAYLIGHT
TZOFFSETFROM:-0500
TZOFFSETTO:-0400
TZNAME:EDT
DTSTART:20310309T070000
END:DAYLIGHT
BEGIN:STANDARD
TZOFFSETFROM:-0400
TZOFFSETTO:-0500
TZNAME:EST
DTSTART:20311102T060000
END:STANDARD
BEGIN:DAYLIGHT
TZOFFSETFROM:-0500
TZOFFSETTO:-0400
TZNAME:EDT
DTSTART:20320314T070000
END:DAYLIGHT
BEGIN:STANDARD
TZOFFSETFROM:-0400
TZOFFSETTO:-0500
TZNAME:EST
DTSTART:20321107T060000
END:STANDARD
END:VTIMEZONE
BEGIN:VEVENT
DTSTART;TZID=America/New_York:20300704T180000
DTEND;TZID=America/New_York:20300704T193000
DTSTAMP:20260422T155022
CREATED:20260227T182419Z
LAST-MODIFIED:20260227T182419Z
UID:10009475-1909418400-1909423800@tbflibrary.org
SUMMARY:STEM Night At the Den
DESCRIPTION:Join us for STEM Night at The Den on the first Thursday of each month at the Thomas Beaver Free Library.\n\n\nInspired by the curiosity-driven exploration at the heart of our Learning Den program\, this monthly evening gathering offers an accessible evening option for families and learners throughout our community.\n\n\nThrough thoughtful\, open-ended investigations\, participants engage in hands-on scientific exploration designed to spark curiosity and deepen understanding. Activities are created with elementary-aged learners in mind\, while remaining welcoming to older and younger participants.\n\n\nChildren and caregivers work side by side\, creating space for experimentation\, creative problem-solving\, and genuine connection with other families.\n\n\nNo fees. No registration. Simply drop in during program hours and take part.
URL:https://tbflibrary.org/event/stem-night-at-the-den/2030-07-04/
LOCATION:Thomas Beaver Free Library\, 317 Ferry Street\, Danville\, PA\, 17521\, United States
CATEGORIES:Children,Hobbies / Crafts
ATTACH;FMTTYPE=image/png:https://tbflibrary.org/wp-content/uploads/2026/02/Blue-Bold-Abstract-Organic-Flower-Quote-Art-Poster-1080-x-1080-px.png
ORGANIZER;CN="Thomas Beaver Free Library":MAILTO:tbflstaff@ptd.net
END:VEVENT
BEGIN:VEVENT
DTSTART;TZID=America/New_York:20300801T180000
DTEND;TZID=America/New_York:20300801T193000
DTSTAMP:20260422T155022
CREATED:20260227T182419Z
LAST-MODIFIED:20260227T182419Z
UID:10009476-1911837600-1911843000@tbflibrary.org
SUMMARY:STEM Night At the Den
DESCRIPTION:Join us for STEM Night at The Den on the first Thursday of each month at the Thomas Beaver Free Library.\n\n\nInspired by the curiosity-driven exploration at the heart of our Learning Den program\, this monthly evening gathering offers an accessible evening option for families and learners throughout our community.\n\n\nThrough thoughtful\, open-ended investigations\, participants engage in hands-on scientific exploration designed to spark curiosity and deepen understanding. Activities are created with elementary-aged learners in mind\, while remaining welcoming to older and younger participants.\n\n\nChildren and caregivers work side by side\, creating space for experimentation\, creative problem-solving\, and genuine connection with other families.\n\n\nNo fees. No registration. Simply drop in during program hours and take part.
URL:https://tbflibrary.org/event/stem-night-at-the-den/2030-08-01/
LOCATION:Thomas Beaver Free Library\, 317 Ferry Street\, Danville\, PA\, 17521\, United States
CATEGORIES:Children,Hobbies / Crafts
ATTACH;FMTTYPE=image/png:https://tbflibrary.org/wp-content/uploads/2026/02/Blue-Bold-Abstract-Organic-Flower-Quote-Art-Poster-1080-x-1080-px.png
ORGANIZER;CN="Thomas Beaver Free Library":MAILTO:tbflstaff@ptd.net
END:VEVENT
BEGIN:VEVENT
DTSTART;TZID=America/New_York:20300905T180000
DTEND;TZID=America/New_York:20300905T193000
DTSTAMP:20260422T155022
CREATED:20260227T182419Z
LAST-MODIFIED:20260227T182419Z
UID:10009477-1914861600-1914867000@tbflibrary.org
SUMMARY:STEM Night At the Den
DESCRIPTION:Join us for STEM Night at The Den on the first Thursday of each month at the Thomas Beaver Free Library.\n\n\nInspired by the curiosity-driven exploration at the heart of our Learning Den program\, this monthly evening gathering offers an accessible evening option for families and learners throughout our community.\n\n\nThrough thoughtful\, open-ended investigations\, participants engage in hands-on scientific exploration designed to spark curiosity and deepen understanding. Activities are created with elementary-aged learners in mind\, while remaining welcoming to older and younger participants.\n\n\nChildren and caregivers work side by side\, creating space for experimentation\, creative problem-solving\, and genuine connection with other families.\n\n\nNo fees. No registration. Simply drop in during program hours and take part.
URL:https://tbflibrary.org/event/stem-night-at-the-den/2030-09-05/
LOCATION:Thomas Beaver Free Library\, 317 Ferry Street\, Danville\, PA\, 17521\, United States
CATEGORIES:Children,Hobbies / Crafts
ATTACH;FMTTYPE=image/png:https://tbflibrary.org/wp-content/uploads/2026/02/Blue-Bold-Abstract-Organic-Flower-Quote-Art-Poster-1080-x-1080-px.png
ORGANIZER;CN="Thomas Beaver Free Library":MAILTO:tbflstaff@ptd.net
END:VEVENT
BEGIN:VEVENT
DTSTART;TZID=America/New_York:20301003T180000
DTEND;TZID=America/New_York:20301003T193000
DTSTAMP:20260422T155022
CREATED:20260227T182419Z
LAST-MODIFIED:20260227T182419Z
UID:10009478-1917280800-1917286200@tbflibrary.org
SUMMARY:STEM Night At the Den
DESCRIPTION:Join us for STEM Night at The Den on the first Thursday of each month at the Thomas Beaver Free Library.\n\n\nInspired by the curiosity-driven exploration at the heart of our Learning Den program\, this monthly evening gathering offers an accessible evening option for families and learners throughout our community.\n\n\nThrough thoughtful\, open-ended investigations\, participants engage in hands-on scientific exploration designed to spark curiosity and deepen understanding. Activities are created with elementary-aged learners in mind\, while remaining welcoming to older and younger participants.\n\n\nChildren and caregivers work side by side\, creating space for experimentation\, creative problem-solving\, and genuine connection with other families.\n\n\nNo fees. No registration. Simply drop in during program hours and take part.
URL:https://tbflibrary.org/event/stem-night-at-the-den/2030-10-03/
LOCATION:Thomas Beaver Free Library\, 317 Ferry Street\, Danville\, PA\, 17521\, United States
CATEGORIES:Children,Hobbies / Crafts
ATTACH;FMTTYPE=image/png:https://tbflibrary.org/wp-content/uploads/2026/02/Blue-Bold-Abstract-Organic-Flower-Quote-Art-Poster-1080-x-1080-px.png
ORGANIZER;CN="Thomas Beaver Free Library":MAILTO:tbflstaff@ptd.net
END:VEVENT
BEGIN:VEVENT
DTSTART;TZID=America/New_York:20301107T180000
DTEND;TZID=America/New_York:20301107T193000
DTSTAMP:20260422T155022
CREATED:20260227T182419Z
LAST-MODIFIED:20260227T182419Z
UID:10009479-1920304800-1920310200@tbflibrary.org
SUMMARY:STEM Night At the Den
DESCRIPTION:Join us for STEM Night at The Den on the first Thursday of each month at the Thomas Beaver Free Library.\n\n\nInspired by the curiosity-driven exploration at the heart of our Learning Den program\, this monthly evening gathering offers an accessible evening option for families and learners throughout our community.\n\n\nThrough thoughtful\, open-ended investigations\, participants engage in hands-on scientific exploration designed to spark curiosity and deepen understanding. Activities are created with elementary-aged learners in mind\, while remaining welcoming to older and younger participants.\n\n\nChildren and caregivers work side by side\, creating space for experimentation\, creative problem-solving\, and genuine connection with other families.\n\n\nNo fees. No registration. Simply drop in during program hours and take part.
URL:https://tbflibrary.org/event/stem-night-at-the-den/2030-11-07/
LOCATION:Thomas Beaver Free Library\, 317 Ferry Street\, Danville\, PA\, 17521\, United States
CATEGORIES:Children,Hobbies / Crafts
ATTACH;FMTTYPE=image/png:https://tbflibrary.org/wp-content/uploads/2026/02/Blue-Bold-Abstract-Organic-Flower-Quote-Art-Poster-1080-x-1080-px.png
ORGANIZER;CN="Thomas Beaver Free Library":MAILTO:tbflstaff@ptd.net
END:VEVENT
BEGIN:VEVENT
DTSTART;TZID=America/New_York:20301205T180000
DTEND;TZID=America/New_York:20301205T193000
DTSTAMP:20260422T155022
CREATED:20260227T182419Z
LAST-MODIFIED:20260227T182419Z
UID:10009480-1922724000-1922729400@tbflibrary.org
SUMMARY:STEM Night At the Den
DESCRIPTION:Join us for STEM Night at The Den on the first Thursday of each month at the Thomas Beaver Free Library.\n\n\nInspired by the curiosity-driven exploration at the heart of our Learning Den program\, this monthly evening gathering offers an accessible evening option for families and learners throughout our community.\n\n\nThrough thoughtful\, open-ended investigations\, participants engage in hands-on scientific exploration designed to spark curiosity and deepen understanding. Activities are created with elementary-aged learners in mind\, while remaining welcoming to older and younger participants.\n\n\nChildren and caregivers work side by side\, creating space for experimentation\, creative problem-solving\, and genuine connection with other families.\n\n\nNo fees. No registration. Simply drop in during program hours and take part.
URL:https://tbflibrary.org/event/stem-night-at-the-den/2030-12-05/
LOCATION:Thomas Beaver Free Library\, 317 Ferry Street\, Danville\, PA\, 17521\, United States
CATEGORIES:Children,Hobbies / Crafts
ATTACH;FMTTYPE=image/png:https://tbflibrary.org/wp-content/uploads/2026/02/Blue-Bold-Abstract-Organic-Flower-Quote-Art-Poster-1080-x-1080-px.png
ORGANIZER;CN="Thomas Beaver Free Library":MAILTO:tbflstaff@ptd.net
END:VEVENT
BEGIN:VEVENT
DTSTART;TZID=America/New_York:20310102T180000
DTEND;TZID=America/New_York:20310102T193000
DTSTAMP:20260422T155022
CREATED:20260227T182419Z
LAST-MODIFIED:20260227T182419Z
UID:10009481-1925143200-1925148600@tbflibrary.org
SUMMARY:STEM Night At the Den
DESCRIPTION:Join us for STEM Night at The Den on the first Thursday of each month at the Thomas Beaver Free Library.\n\n\nInspired by the curiosity-driven exploration at the heart of our Learning Den program\, this monthly evening gathering offers an accessible evening option for families and learners throughout our community.\n\n\nThrough thoughtful\, open-ended investigations\, participants engage in hands-on scientific exploration designed to spark curiosity and deepen understanding. Activities are created with elementary-aged learners in mind\, while remaining welcoming to older and younger participants.\n\n\nChildren and caregivers work side by side\, creating space for experimentation\, creative problem-solving\, and genuine connection with other families.\n\n\nNo fees. No registration. Simply drop in during program hours and take part.
URL:https://tbflibrary.org/event/stem-night-at-the-den/2031-01-02/
LOCATION:Thomas Beaver Free Library\, 317 Ferry Street\, Danville\, PA\, 17521\, United States
CATEGORIES:Children,Hobbies / Crafts
ATTACH;FMTTYPE=image/png:https://tbflibrary.org/wp-content/uploads/2026/02/Blue-Bold-Abstract-Organic-Flower-Quote-Art-Poster-1080-x-1080-px.png
ORGANIZER;CN="Thomas Beaver Free Library":MAILTO:tbflstaff@ptd.net
END:VEVENT
BEGIN:VEVENT
DTSTART;TZID=America/New_York:20310206T180000
DTEND;TZID=America/New_York:20310206T193000
DTSTAMP:20260422T155022
CREATED:20260227T182419Z
LAST-MODIFIED:20260227T182419Z
UID:10009482-1928167200-1928172600@tbflibrary.org
SUMMARY:STEM Night At the Den
DESCRIPTION:Join us for STEM Night at The Den on the first Thursday of each month at the Thomas Beaver Free Library.\n\n\nInspired by the curiosity-driven exploration at the heart of our Learning Den program\, this monthly evening gathering offers an accessible evening option for families and learners throughout our community.\n\n\nThrough thoughtful\, open-ended investigations\, participants engage in hands-on scientific exploration designed to spark curiosity and deepen understanding. Activities are created with elementary-aged learners in mind\, while remaining welcoming to older and younger participants.\n\n\nChildren and caregivers work side by side\, creating space for experimentation\, creative problem-solving\, and genuine connection with other families.\n\n\nNo fees. No registration. Simply drop in during program hours and take part.
URL:https://tbflibrary.org/event/stem-night-at-the-den/2031-02-06/
LOCATION:Thomas Beaver Free Library\, 317 Ferry Street\, Danville\, PA\, 17521\, United States
CATEGORIES:Children,Hobbies / Crafts
ATTACH;FMTTYPE=image/png:https://tbflibrary.org/wp-content/uploads/2026/02/Blue-Bold-Abstract-Organic-Flower-Quote-Art-Poster-1080-x-1080-px.png
ORGANIZER;CN="Thomas Beaver Free Library":MAILTO:tbflstaff@ptd.net
END:VEVENT
END:VCALENDAR