BEGIN:VCALENDAR
VERSION:2.0
PRODID:-//Thomas Beaver Free Library - ECPv6.15.15//NONSGML v1.0//EN
CALSCALE:GREGORIAN
METHOD:PUBLISH
X-ORIGINAL-URL:https://tbflibrary.org
X-WR-CALDESC:Events for Thomas Beaver Free Library
REFRESH-INTERVAL;VALUE=DURATION:PT1H
X-Robots-Tag:noindex
X-PUBLISHED-TTL:PT1H
BEGIN:VTIMEZONE
TZID:America/New_York
BEGIN:DAYLIGHT
TZOFFSETFROM:-0500
TZOFFSETTO:-0400
TZNAME:EDT
DTSTART:20250309T070000
END:DAYLIGHT
BEGIN:STANDARD
TZOFFSETFROM:-0400
TZOFFSETTO:-0500
TZNAME:EST
DTSTART:20251102T060000
END:STANDARD
BEGIN:DAYLIGHT
TZOFFSETFROM:-0500
TZOFFSETTO:-0400
TZNAME:EDT
DTSTART:20260308T070000
END:DAYLIGHT
BEGIN:STANDARD
TZOFFSETFROM:-0400
TZOFFSETTO:-0500
TZNAME:EST
DTSTART:20261101T060000
END:STANDARD
BEGIN:DAYLIGHT
TZOFFSETFROM:-0500
TZOFFSETTO:-0400
TZNAME:EDT
DTSTART:20270314T070000
END:DAYLIGHT
BEGIN:STANDARD
TZOFFSETFROM:-0400
TZOFFSETTO:-0500
TZNAME:EST
DTSTART:20271107T060000
END:STANDARD
BEGIN:DAYLIGHT
TZOFFSETFROM:-0500
TZOFFSETTO:-0400
TZNAME:EDT
DTSTART:20280312T070000
END:DAYLIGHT
BEGIN:STANDARD
TZOFFSETFROM:-0400
TZOFFSETTO:-0500
TZNAME:EST
DTSTART:20281105T060000
END:STANDARD
END:VTIMEZONE
BEGIN:VEVENT
DTSTART;TZID=America/New_York:20260916T130000
DTEND;TZID=America/New_York:20260916T150000
DTSTAMP:20260423T043740
CREATED:20240130T162858Z
LAST-MODIFIED:20260112T232525Z
UID:10006589-1789563600-1789570800@tbflibrary.org
SUMMARY:Mahjong - Wednesdays
DESCRIPTION:Join your friends for a challenging game of Mahjong every Monday and Wednesday from 1:00 pm to 3:00 pm in the Peters Community Room.
URL:https://tbflibrary.org/event/mahjong-wednesdays/2026-09-16/
LOCATION:Thomas Beaver Free Library\, 317 Ferry Street\, Danville\, PA\, 17521\, United States
CATEGORIES:Games / Leagues
ATTACH;FMTTYPE=image/png:https://tbflibrary.org/wp-content/uploads/2021/06/Mahjong-09-2022.png
ORGANIZER;CN="Thomas Beaver Free Library":MAILTO:tbflstaff@ptd.net
END:VEVENT
BEGIN:VEVENT
DTSTART;TZID=America/New_York:20260923T130000
DTEND;TZID=America/New_York:20260923T150000
DTSTAMP:20260423T043740
CREATED:20240130T162858Z
LAST-MODIFIED:20260112T232525Z
UID:10006590-1790168400-1790175600@tbflibrary.org
SUMMARY:Mahjong - Wednesdays
DESCRIPTION:Join your friends for a challenging game of Mahjong every Monday and Wednesday from 1:00 pm to 3:00 pm in the Peters Community Room.
URL:https://tbflibrary.org/event/mahjong-wednesdays/2026-09-23/
LOCATION:Thomas Beaver Free Library\, 317 Ferry Street\, Danville\, PA\, 17521\, United States
CATEGORIES:Games / Leagues
ATTACH;FMTTYPE=image/png:https://tbflibrary.org/wp-content/uploads/2021/06/Mahjong-09-2022.png
ORGANIZER;CN="Thomas Beaver Free Library":MAILTO:tbflstaff@ptd.net
END:VEVENT
BEGIN:VEVENT
DTSTART;TZID=America/New_York:20260930T130000
DTEND;TZID=America/New_York:20260930T150000
DTSTAMP:20260423T043740
CREATED:20240130T162858Z
LAST-MODIFIED:20260112T232525Z
UID:10006591-1790773200-1790780400@tbflibrary.org
SUMMARY:Mahjong - Wednesdays
DESCRIPTION:Join your friends for a challenging game of Mahjong every Monday and Wednesday from 1:00 pm to 3:00 pm in the Peters Community Room.
URL:https://tbflibrary.org/event/mahjong-wednesdays/2026-09-30/
LOCATION:Thomas Beaver Free Library\, 317 Ferry Street\, Danville\, PA\, 17521\, United States
CATEGORIES:Games / Leagues
ATTACH;FMTTYPE=image/png:https://tbflibrary.org/wp-content/uploads/2021/06/Mahjong-09-2022.png
ORGANIZER;CN="Thomas Beaver Free Library":MAILTO:tbflstaff@ptd.net
END:VEVENT
BEGIN:VEVENT
DTSTART;TZID=America/New_York:20261007T130000
DTEND;TZID=America/New_York:20261007T150000
DTSTAMP:20260423T043740
CREATED:20240130T162858Z
LAST-MODIFIED:20260112T232525Z
UID:10006592-1791378000-1791385200@tbflibrary.org
SUMMARY:Mahjong - Wednesdays
DESCRIPTION:Join your friends for a challenging game of Mahjong every Monday and Wednesday from 1:00 pm to 3:00 pm in the Peters Community Room.
URL:https://tbflibrary.org/event/mahjong-wednesdays/2026-10-07/
LOCATION:Thomas Beaver Free Library\, 317 Ferry Street\, Danville\, PA\, 17521\, United States
CATEGORIES:Games / Leagues
ATTACH;FMTTYPE=image/png:https://tbflibrary.org/wp-content/uploads/2021/06/Mahjong-09-2022.png
ORGANIZER;CN="Thomas Beaver Free Library":MAILTO:tbflstaff@ptd.net
END:VEVENT
BEGIN:VEVENT
DTSTART;TZID=America/New_York:20261014T130000
DTEND;TZID=America/New_York:20261014T150000
DTSTAMP:20260423T043740
CREATED:20240130T162858Z
LAST-MODIFIED:20260112T232525Z
UID:10006593-1791982800-1791990000@tbflibrary.org
SUMMARY:Mahjong - Wednesdays
DESCRIPTION:Join your friends for a challenging game of Mahjong every Monday and Wednesday from 1:00 pm to 3:00 pm in the Peters Community Room.
URL:https://tbflibrary.org/event/mahjong-wednesdays/2026-10-14/
LOCATION:Thomas Beaver Free Library\, 317 Ferry Street\, Danville\, PA\, 17521\, United States
CATEGORIES:Games / Leagues
ATTACH;FMTTYPE=image/png:https://tbflibrary.org/wp-content/uploads/2021/06/Mahjong-09-2022.png
ORGANIZER;CN="Thomas Beaver Free Library":MAILTO:tbflstaff@ptd.net
END:VEVENT
BEGIN:VEVENT
DTSTART;TZID=America/New_York:20261021T130000
DTEND;TZID=America/New_York:20261021T150000
DTSTAMP:20260423T043740
CREATED:20240130T162858Z
LAST-MODIFIED:20260112T232525Z
UID:10006594-1792587600-1792594800@tbflibrary.org
SUMMARY:Mahjong - Wednesdays
DESCRIPTION:Join your friends for a challenging game of Mahjong every Monday and Wednesday from 1:00 pm to 3:00 pm in the Peters Community Room.
URL:https://tbflibrary.org/event/mahjong-wednesdays/2026-10-21/
LOCATION:Thomas Beaver Free Library\, 317 Ferry Street\, Danville\, PA\, 17521\, United States
CATEGORIES:Games / Leagues
ATTACH;FMTTYPE=image/png:https://tbflibrary.org/wp-content/uploads/2021/06/Mahjong-09-2022.png
ORGANIZER;CN="Thomas Beaver Free Library":MAILTO:tbflstaff@ptd.net
END:VEVENT
BEGIN:VEVENT
DTSTART;TZID=America/New_York:20261028T130000
DTEND;TZID=America/New_York:20261028T150000
DTSTAMP:20260423T043740
CREATED:20240130T162858Z
LAST-MODIFIED:20260112T232525Z
UID:10006595-1793192400-1793199600@tbflibrary.org
SUMMARY:Mahjong - Wednesdays
DESCRIPTION:Join your friends for a challenging game of Mahjong every Monday and Wednesday from 1:00 pm to 3:00 pm in the Peters Community Room.
URL:https://tbflibrary.org/event/mahjong-wednesdays/2026-10-28/
LOCATION:Thomas Beaver Free Library\, 317 Ferry Street\, Danville\, PA\, 17521\, United States
CATEGORIES:Games / Leagues
ATTACH;FMTTYPE=image/png:https://tbflibrary.org/wp-content/uploads/2021/06/Mahjong-09-2022.png
ORGANIZER;CN="Thomas Beaver Free Library":MAILTO:tbflstaff@ptd.net
END:VEVENT
BEGIN:VEVENT
DTSTART;TZID=America/New_York:20261104T130000
DTEND;TZID=America/New_York:20261104T150000
DTSTAMP:20260423T043740
CREATED:20240130T162858Z
LAST-MODIFIED:20260112T232525Z
UID:10006596-1793797200-1793804400@tbflibrary.org
SUMMARY:Mahjong - Wednesdays
DESCRIPTION:Join your friends for a challenging game of Mahjong every Monday and Wednesday from 1:00 pm to 3:00 pm in the Peters Community Room.
URL:https://tbflibrary.org/event/mahjong-wednesdays/2026-11-04/
LOCATION:Thomas Beaver Free Library\, 317 Ferry Street\, Danville\, PA\, 17521\, United States
CATEGORIES:Games / Leagues
ATTACH;FMTTYPE=image/png:https://tbflibrary.org/wp-content/uploads/2021/06/Mahjong-09-2022.png
ORGANIZER;CN="Thomas Beaver Free Library":MAILTO:tbflstaff@ptd.net
END:VEVENT
BEGIN:VEVENT
DTSTART;TZID=America/New_York:20261111T130000
DTEND;TZID=America/New_York:20261111T150000
DTSTAMP:20260423T043740
CREATED:20240130T162858Z
LAST-MODIFIED:20260112T232525Z
UID:10006597-1794402000-1794409200@tbflibrary.org
SUMMARY:Mahjong - Wednesdays
DESCRIPTION:Join your friends for a challenging game of Mahjong every Monday and Wednesday from 1:00 pm to 3:00 pm in the Peters Community Room.
URL:https://tbflibrary.org/event/mahjong-wednesdays/2026-11-11/
LOCATION:Thomas Beaver Free Library\, 317 Ferry Street\, Danville\, PA\, 17521\, United States
CATEGORIES:Games / Leagues
ATTACH;FMTTYPE=image/png:https://tbflibrary.org/wp-content/uploads/2021/06/Mahjong-09-2022.png
ORGANIZER;CN="Thomas Beaver Free Library":MAILTO:tbflstaff@ptd.net
END:VEVENT
BEGIN:VEVENT
DTSTART;TZID=America/New_York:20261118T130000
DTEND;TZID=America/New_York:20261118T150000
DTSTAMP:20260423T043740
CREATED:20240130T162858Z
LAST-MODIFIED:20260112T232525Z
UID:10006598-1795006800-1795014000@tbflibrary.org
SUMMARY:Mahjong - Wednesdays
DESCRIPTION:Join your friends for a challenging game of Mahjong every Monday and Wednesday from 1:00 pm to 3:00 pm in the Peters Community Room.
URL:https://tbflibrary.org/event/mahjong-wednesdays/2026-11-18/
LOCATION:Thomas Beaver Free Library\, 317 Ferry Street\, Danville\, PA\, 17521\, United States
CATEGORIES:Games / Leagues
ATTACH;FMTTYPE=image/png:https://tbflibrary.org/wp-content/uploads/2021/06/Mahjong-09-2022.png
ORGANIZER;CN="Thomas Beaver Free Library":MAILTO:tbflstaff@ptd.net
END:VEVENT
BEGIN:VEVENT
DTSTART;TZID=America/New_York:20261125T130000
DTEND;TZID=America/New_York:20261125T150000
DTSTAMP:20260423T043740
CREATED:20240130T162858Z
LAST-MODIFIED:20260112T232525Z
UID:10006599-1795611600-1795618800@tbflibrary.org
SUMMARY:Mahjong - Wednesdays
DESCRIPTION:Join your friends for a challenging game of Mahjong every Monday and Wednesday from 1:00 pm to 3:00 pm in the Peters Community Room.
URL:https://tbflibrary.org/event/mahjong-wednesdays/2026-11-25/
LOCATION:Thomas Beaver Free Library\, 317 Ferry Street\, Danville\, PA\, 17521\, United States
CATEGORIES:Games / Leagues
ATTACH;FMTTYPE=image/png:https://tbflibrary.org/wp-content/uploads/2021/06/Mahjong-09-2022.png
ORGANIZER;CN="Thomas Beaver Free Library":MAILTO:tbflstaff@ptd.net
END:VEVENT
BEGIN:VEVENT
DTSTART;TZID=America/New_York:20261202T130000
DTEND;TZID=America/New_York:20261202T150000
DTSTAMP:20260423T043740
CREATED:20240130T162858Z
LAST-MODIFIED:20260112T232525Z
UID:10006600-1796216400-1796223600@tbflibrary.org
SUMMARY:Mahjong - Wednesdays
DESCRIPTION:Join your friends for a challenging game of Mahjong every Monday and Wednesday from 1:00 pm to 3:00 pm in the Peters Community Room.
URL:https://tbflibrary.org/event/mahjong-wednesdays/2026-12-02/
LOCATION:Thomas Beaver Free Library\, 317 Ferry Street\, Danville\, PA\, 17521\, United States
CATEGORIES:Games / Leagues
ATTACH;FMTTYPE=image/png:https://tbflibrary.org/wp-content/uploads/2021/06/Mahjong-09-2022.png
ORGANIZER;CN="Thomas Beaver Free Library":MAILTO:tbflstaff@ptd.net
END:VEVENT
BEGIN:VEVENT
DTSTART;TZID=America/New_York:20261209T130000
DTEND;TZID=America/New_York:20261209T150000
DTSTAMP:20260423T043740
CREATED:20240130T162858Z
LAST-MODIFIED:20260112T232525Z
UID:10006601-1796821200-1796828400@tbflibrary.org
SUMMARY:Mahjong - Wednesdays
DESCRIPTION:Join your friends for a challenging game of Mahjong every Monday and Wednesday from 1:00 pm to 3:00 pm in the Peters Community Room.
URL:https://tbflibrary.org/event/mahjong-wednesdays/2026-12-09/
LOCATION:Thomas Beaver Free Library\, 317 Ferry Street\, Danville\, PA\, 17521\, United States
CATEGORIES:Games / Leagues
ATTACH;FMTTYPE=image/png:https://tbflibrary.org/wp-content/uploads/2021/06/Mahjong-09-2022.png
ORGANIZER;CN="Thomas Beaver Free Library":MAILTO:tbflstaff@ptd.net
END:VEVENT
BEGIN:VEVENT
DTSTART;TZID=America/New_York:20261216T130000
DTEND;TZID=America/New_York:20261216T150000
DTSTAMP:20260423T043740
CREATED:20240130T162858Z
LAST-MODIFIED:20260112T232525Z
UID:10006602-1797426000-1797433200@tbflibrary.org
SUMMARY:Mahjong - Wednesdays
DESCRIPTION:Join your friends for a challenging game of Mahjong every Monday and Wednesday from 1:00 pm to 3:00 pm in the Peters Community Room.
URL:https://tbflibrary.org/event/mahjong-wednesdays/2026-12-16/
LOCATION:Thomas Beaver Free Library\, 317 Ferry Street\, Danville\, PA\, 17521\, United States
CATEGORIES:Games / Leagues
ATTACH;FMTTYPE=image/png:https://tbflibrary.org/wp-content/uploads/2021/06/Mahjong-09-2022.png
ORGANIZER;CN="Thomas Beaver Free Library":MAILTO:tbflstaff@ptd.net
END:VEVENT
BEGIN:VEVENT
DTSTART;TZID=America/New_York:20261223T130000
DTEND;TZID=America/New_York:20261223T150000
DTSTAMP:20260423T043740
CREATED:20240130T162858Z
LAST-MODIFIED:20260112T232525Z
UID:10006603-1798030800-1798038000@tbflibrary.org
SUMMARY:Mahjong - Wednesdays
DESCRIPTION:Join your friends for a challenging game of Mahjong every Monday and Wednesday from 1:00 pm to 3:00 pm in the Peters Community Room.
URL:https://tbflibrary.org/event/mahjong-wednesdays/2026-12-23/
LOCATION:Thomas Beaver Free Library\, 317 Ferry Street\, Danville\, PA\, 17521\, United States
CATEGORIES:Games / Leagues
ATTACH;FMTTYPE=image/png:https://tbflibrary.org/wp-content/uploads/2021/06/Mahjong-09-2022.png
ORGANIZER;CN="Thomas Beaver Free Library":MAILTO:tbflstaff@ptd.net
END:VEVENT
BEGIN:VEVENT
DTSTART;TZID=America/New_York:20261230T130000
DTEND;TZID=America/New_York:20261230T150000
DTSTAMP:20260423T043740
CREATED:20240130T162858Z
LAST-MODIFIED:20260112T232525Z
UID:10006604-1798635600-1798642800@tbflibrary.org
SUMMARY:Mahjong - Wednesdays
DESCRIPTION:Join your friends for a challenging game of Mahjong every Monday and Wednesday from 1:00 pm to 3:00 pm in the Peters Community Room.
URL:https://tbflibrary.org/event/mahjong-wednesdays/2026-12-30/
LOCATION:Thomas Beaver Free Library\, 317 Ferry Street\, Danville\, PA\, 17521\, United States
CATEGORIES:Games / Leagues
ATTACH;FMTTYPE=image/png:https://tbflibrary.org/wp-content/uploads/2021/06/Mahjong-09-2022.png
ORGANIZER;CN="Thomas Beaver Free Library":MAILTO:tbflstaff@ptd.net
END:VEVENT
BEGIN:VEVENT
DTSTART;TZID=America/New_York:20270106T130000
DTEND;TZID=America/New_York:20270106T150000
DTSTAMP:20260423T043740
CREATED:20240130T162858Z
LAST-MODIFIED:20260112T232525Z
UID:10006605-1799240400-1799247600@tbflibrary.org
SUMMARY:Mahjong - Wednesdays
DESCRIPTION:Join your friends for a challenging game of Mahjong every Monday and Wednesday from 1:00 pm to 3:00 pm in the Peters Community Room.
URL:https://tbflibrary.org/event/mahjong-wednesdays/2027-01-06/
LOCATION:Thomas Beaver Free Library\, 317 Ferry Street\, Danville\, PA\, 17521\, United States
CATEGORIES:Games / Leagues
ATTACH;FMTTYPE=image/png:https://tbflibrary.org/wp-content/uploads/2021/06/Mahjong-09-2022.png
ORGANIZER;CN="Thomas Beaver Free Library":MAILTO:tbflstaff@ptd.net
END:VEVENT
BEGIN:VEVENT
DTSTART;TZID=America/New_York:20270113T130000
DTEND;TZID=America/New_York:20270113T150000
DTSTAMP:20260423T043740
CREATED:20240130T162858Z
LAST-MODIFIED:20260112T232525Z
UID:10006606-1799845200-1799852400@tbflibrary.org
SUMMARY:Mahjong - Wednesdays
DESCRIPTION:Join your friends for a challenging game of Mahjong every Monday and Wednesday from 1:00 pm to 3:00 pm in the Peters Community Room.
URL:https://tbflibrary.org/event/mahjong-wednesdays/2027-01-13/
LOCATION:Thomas Beaver Free Library\, 317 Ferry Street\, Danville\, PA\, 17521\, United States
CATEGORIES:Games / Leagues
ATTACH;FMTTYPE=image/png:https://tbflibrary.org/wp-content/uploads/2021/06/Mahjong-09-2022.png
ORGANIZER;CN="Thomas Beaver Free Library":MAILTO:tbflstaff@ptd.net
END:VEVENT
BEGIN:VEVENT
DTSTART;TZID=America/New_York:20270120T130000
DTEND;TZID=America/New_York:20270120T150000
DTSTAMP:20260423T043740
CREATED:20240130T162858Z
LAST-MODIFIED:20260112T232525Z
UID:10006607-1800450000-1800457200@tbflibrary.org
SUMMARY:Mahjong - Wednesdays
DESCRIPTION:Join your friends for a challenging game of Mahjong every Monday and Wednesday from 1:00 pm to 3:00 pm in the Peters Community Room.
URL:https://tbflibrary.org/event/mahjong-wednesdays/2027-01-20/
LOCATION:Thomas Beaver Free Library\, 317 Ferry Street\, Danville\, PA\, 17521\, United States
CATEGORIES:Games / Leagues
ATTACH;FMTTYPE=image/png:https://tbflibrary.org/wp-content/uploads/2021/06/Mahjong-09-2022.png
ORGANIZER;CN="Thomas Beaver Free Library":MAILTO:tbflstaff@ptd.net
END:VEVENT
BEGIN:VEVENT
DTSTART;TZID=America/New_York:20270127T130000
DTEND;TZID=America/New_York:20270127T150000
DTSTAMP:20260423T043740
CREATED:20240130T162858Z
LAST-MODIFIED:20260112T232525Z
UID:10006608-1801054800-1801062000@tbflibrary.org
SUMMARY:Mahjong - Wednesdays
DESCRIPTION:Join your friends for a challenging game of Mahjong every Monday and Wednesday from 1:00 pm to 3:00 pm in the Peters Community Room.
URL:https://tbflibrary.org/event/mahjong-wednesdays/2027-01-27/
LOCATION:Thomas Beaver Free Library\, 317 Ferry Street\, Danville\, PA\, 17521\, United States
CATEGORIES:Games / Leagues
ATTACH;FMTTYPE=image/png:https://tbflibrary.org/wp-content/uploads/2021/06/Mahjong-09-2022.png
ORGANIZER;CN="Thomas Beaver Free Library":MAILTO:tbflstaff@ptd.net
END:VEVENT
BEGIN:VEVENT
DTSTART;TZID=America/New_York:20270203T130000
DTEND;TZID=America/New_York:20270203T150000
DTSTAMP:20260423T043740
CREATED:20240130T162858Z
LAST-MODIFIED:20260112T232525Z
UID:10006609-1801659600-1801666800@tbflibrary.org
SUMMARY:Mahjong - Wednesdays
DESCRIPTION:Join your friends for a challenging game of Mahjong every Monday and Wednesday from 1:00 pm to 3:00 pm in the Peters Community Room.
URL:https://tbflibrary.org/event/mahjong-wednesdays/2027-02-03/
LOCATION:Thomas Beaver Free Library\, 317 Ferry Street\, Danville\, PA\, 17521\, United States
CATEGORIES:Games / Leagues
ATTACH;FMTTYPE=image/png:https://tbflibrary.org/wp-content/uploads/2021/06/Mahjong-09-2022.png
ORGANIZER;CN="Thomas Beaver Free Library":MAILTO:tbflstaff@ptd.net
END:VEVENT
BEGIN:VEVENT
DTSTART;TZID=America/New_York:20270210T130000
DTEND;TZID=America/New_York:20270210T150000
DTSTAMP:20260423T043740
CREATED:20240130T162858Z
LAST-MODIFIED:20260112T232525Z
UID:10006610-1802264400-1802271600@tbflibrary.org
SUMMARY:Mahjong - Wednesdays
DESCRIPTION:Join your friends for a challenging game of Mahjong every Monday and Wednesday from 1:00 pm to 3:00 pm in the Peters Community Room.
URL:https://tbflibrary.org/event/mahjong-wednesdays/2027-02-10/
LOCATION:Thomas Beaver Free Library\, 317 Ferry Street\, Danville\, PA\, 17521\, United States
CATEGORIES:Games / Leagues
ATTACH;FMTTYPE=image/png:https://tbflibrary.org/wp-content/uploads/2021/06/Mahjong-09-2022.png
ORGANIZER;CN="Thomas Beaver Free Library":MAILTO:tbflstaff@ptd.net
END:VEVENT
BEGIN:VEVENT
DTSTART;TZID=America/New_York:20270217T130000
DTEND;TZID=America/New_York:20270217T150000
DTSTAMP:20260423T043740
CREATED:20240130T162858Z
LAST-MODIFIED:20260112T232525Z
UID:10006611-1802869200-1802876400@tbflibrary.org
SUMMARY:Mahjong - Wednesdays
DESCRIPTION:Join your friends for a challenging game of Mahjong every Monday and Wednesday from 1:00 pm to 3:00 pm in the Peters Community Room.
URL:https://tbflibrary.org/event/mahjong-wednesdays/2027-02-17/
LOCATION:Thomas Beaver Free Library\, 317 Ferry Street\, Danville\, PA\, 17521\, United States
CATEGORIES:Games / Leagues
ATTACH;FMTTYPE=image/png:https://tbflibrary.org/wp-content/uploads/2021/06/Mahjong-09-2022.png
ORGANIZER;CN="Thomas Beaver Free Library":MAILTO:tbflstaff@ptd.net
END:VEVENT
BEGIN:VEVENT
DTSTART;TZID=America/New_York:20270224T130000
DTEND;TZID=America/New_York:20270224T150000
DTSTAMP:20260423T043740
CREATED:20240130T162858Z
LAST-MODIFIED:20260112T232525Z
UID:10006612-1803474000-1803481200@tbflibrary.org
SUMMARY:Mahjong - Wednesdays
DESCRIPTION:Join your friends for a challenging game of Mahjong every Monday and Wednesday from 1:00 pm to 3:00 pm in the Peters Community Room.
URL:https://tbflibrary.org/event/mahjong-wednesdays/2027-02-24/
LOCATION:Thomas Beaver Free Library\, 317 Ferry Street\, Danville\, PA\, 17521\, United States
CATEGORIES:Games / Leagues
ATTACH;FMTTYPE=image/png:https://tbflibrary.org/wp-content/uploads/2021/06/Mahjong-09-2022.png
ORGANIZER;CN="Thomas Beaver Free Library":MAILTO:tbflstaff@ptd.net
END:VEVENT
BEGIN:VEVENT
DTSTART;TZID=America/New_York:20270303T130000
DTEND;TZID=America/New_York:20270303T150000
DTSTAMP:20260423T043740
CREATED:20240130T162858Z
LAST-MODIFIED:20260112T232525Z
UID:10006613-1804078800-1804086000@tbflibrary.org
SUMMARY:Mahjong - Wednesdays
DESCRIPTION:Join your friends for a challenging game of Mahjong every Monday and Wednesday from 1:00 pm to 3:00 pm in the Peters Community Room.
URL:https://tbflibrary.org/event/mahjong-wednesdays/2027-03-03/
LOCATION:Thomas Beaver Free Library\, 317 Ferry Street\, Danville\, PA\, 17521\, United States
CATEGORIES:Games / Leagues
ATTACH;FMTTYPE=image/png:https://tbflibrary.org/wp-content/uploads/2021/06/Mahjong-09-2022.png
ORGANIZER;CN="Thomas Beaver Free Library":MAILTO:tbflstaff@ptd.net
END:VEVENT
BEGIN:VEVENT
DTSTART;TZID=America/New_York:20270310T130000
DTEND;TZID=America/New_York:20270310T150000
DTSTAMP:20260423T043740
CREATED:20240130T162858Z
LAST-MODIFIED:20260112T232525Z
UID:10006614-1804683600-1804690800@tbflibrary.org
SUMMARY:Mahjong - Wednesdays
DESCRIPTION:Join your friends for a challenging game of Mahjong every Monday and Wednesday from 1:00 pm to 3:00 pm in the Peters Community Room.
URL:https://tbflibrary.org/event/mahjong-wednesdays/2027-03-10/
LOCATION:Thomas Beaver Free Library\, 317 Ferry Street\, Danville\, PA\, 17521\, United States
CATEGORIES:Games / Leagues
ATTACH;FMTTYPE=image/png:https://tbflibrary.org/wp-content/uploads/2021/06/Mahjong-09-2022.png
ORGANIZER;CN="Thomas Beaver Free Library":MAILTO:tbflstaff@ptd.net
END:VEVENT
BEGIN:VEVENT
DTSTART;TZID=America/New_York:20270317T130000
DTEND;TZID=America/New_York:20270317T150000
DTSTAMP:20260423T043740
CREATED:20240130T162858Z
LAST-MODIFIED:20260112T232525Z
UID:10006615-1805288400-1805295600@tbflibrary.org
SUMMARY:Mahjong - Wednesdays
DESCRIPTION:Join your friends for a challenging game of Mahjong every Monday and Wednesday from 1:00 pm to 3:00 pm in the Peters Community Room.
URL:https://tbflibrary.org/event/mahjong-wednesdays/2027-03-17/
LOCATION:Thomas Beaver Free Library\, 317 Ferry Street\, Danville\, PA\, 17521\, United States
CATEGORIES:Games / Leagues
ATTACH;FMTTYPE=image/png:https://tbflibrary.org/wp-content/uploads/2021/06/Mahjong-09-2022.png
ORGANIZER;CN="Thomas Beaver Free Library":MAILTO:tbflstaff@ptd.net
END:VEVENT
BEGIN:VEVENT
DTSTART;TZID=America/New_York:20270324T130000
DTEND;TZID=America/New_York:20270324T150000
DTSTAMP:20260423T043740
CREATED:20240130T162858Z
LAST-MODIFIED:20260112T232525Z
UID:10006616-1805893200-1805900400@tbflibrary.org
SUMMARY:Mahjong - Wednesdays
DESCRIPTION:Join your friends for a challenging game of Mahjong every Monday and Wednesday from 1:00 pm to 3:00 pm in the Peters Community Room.
URL:https://tbflibrary.org/event/mahjong-wednesdays/2027-03-24/
LOCATION:Thomas Beaver Free Library\, 317 Ferry Street\, Danville\, PA\, 17521\, United States
CATEGORIES:Games / Leagues
ATTACH;FMTTYPE=image/png:https://tbflibrary.org/wp-content/uploads/2021/06/Mahjong-09-2022.png
ORGANIZER;CN="Thomas Beaver Free Library":MAILTO:tbflstaff@ptd.net
END:VEVENT
BEGIN:VEVENT
DTSTART;TZID=America/New_York:20270331T130000
DTEND;TZID=America/New_York:20270331T150000
DTSTAMP:20260423T043740
CREATED:20240130T162858Z
LAST-MODIFIED:20260112T232525Z
UID:10006617-1806498000-1806505200@tbflibrary.org
SUMMARY:Mahjong - Wednesdays
DESCRIPTION:Join your friends for a challenging game of Mahjong every Monday and Wednesday from 1:00 pm to 3:00 pm in the Peters Community Room.
URL:https://tbflibrary.org/event/mahjong-wednesdays/2027-03-31/
LOCATION:Thomas Beaver Free Library\, 317 Ferry Street\, Danville\, PA\, 17521\, United States
CATEGORIES:Games / Leagues
ATTACH;FMTTYPE=image/png:https://tbflibrary.org/wp-content/uploads/2021/06/Mahjong-09-2022.png
ORGANIZER;CN="Thomas Beaver Free Library":MAILTO:tbflstaff@ptd.net
END:VEVENT
BEGIN:VEVENT
DTSTART;TZID=America/New_York:20270407T130000
DTEND;TZID=America/New_York:20270407T150000
DTSTAMP:20260423T043740
CREATED:20240130T162858Z
LAST-MODIFIED:20260112T232525Z
UID:10006618-1807102800-1807110000@tbflibrary.org
SUMMARY:Mahjong - Wednesdays
DESCRIPTION:Join your friends for a challenging game of Mahjong every Monday and Wednesday from 1:00 pm to 3:00 pm in the Peters Community Room.
URL:https://tbflibrary.org/event/mahjong-wednesdays/2027-04-07/
LOCATION:Thomas Beaver Free Library\, 317 Ferry Street\, Danville\, PA\, 17521\, United States
CATEGORIES:Games / Leagues
ATTACH;FMTTYPE=image/png:https://tbflibrary.org/wp-content/uploads/2021/06/Mahjong-09-2022.png
ORGANIZER;CN="Thomas Beaver Free Library":MAILTO:tbflstaff@ptd.net
END:VEVENT
END:VCALENDAR