BEGIN:VCALENDAR
VERSION:2.0
PRODID:-//Thomas Beaver Free Library - ECPv6.15.15//NONSGML v1.0//EN
CALSCALE:GREGORIAN
METHOD:PUBLISH
X-WR-CALNAME:Thomas Beaver Free Library
X-ORIGINAL-URL:https://tbflibrary.org
X-WR-CALDESC:Events for Thomas Beaver Free Library
REFRESH-INTERVAL;VALUE=DURATION:PT1H
X-Robots-Tag:noindex
X-PUBLISHED-TTL:PT1H
BEGIN:VTIMEZONE
TZID:America/New_York
BEGIN:DAYLIGHT
TZOFFSETFROM:-0500
TZOFFSETTO:-0400
TZNAME:EDT
DTSTART:20250309T070000
END:DAYLIGHT
BEGIN:STANDARD
TZOFFSETFROM:-0400
TZOFFSETTO:-0500
TZNAME:EST
DTSTART:20251102T060000
END:STANDARD
BEGIN:DAYLIGHT
TZOFFSETFROM:-0500
TZOFFSETTO:-0400
TZNAME:EDT
DTSTART:20260308T070000
END:DAYLIGHT
BEGIN:STANDARD
TZOFFSETFROM:-0400
TZOFFSETTO:-0500
TZNAME:EST
DTSTART:20261101T060000
END:STANDARD
BEGIN:DAYLIGHT
TZOFFSETFROM:-0500
TZOFFSETTO:-0400
TZNAME:EDT
DTSTART:20270314T070000
END:DAYLIGHT
BEGIN:STANDARD
TZOFFSETFROM:-0400
TZOFFSETTO:-0500
TZNAME:EST
DTSTART:20271107T060000
END:STANDARD
END:VTIMEZONE
BEGIN:VEVENT
DTSTART;TZID=America/New_York:20260423T170000
DTEND;TZID=America/New_York:20260423T193000
DTSTAMP:20260422T074131
CREATED:20260112T234530Z
LAST-MODIFIED:20260112T234531Z
UID:10004875-1776963600-1776972600@tbflibrary.org
SUMMARY:Chess Club
DESCRIPTION:Join us for a fun lively evening of chess! All levels and ages are welcome.
URL:https://tbflibrary.org/event/chess-club-at-the-thomas-beaver-free-library-2-2/2026-04-23/
LOCATION:Thomas Beaver Free Library\, 317 Ferry Street\, Danville\, PA\, 17521\, United States
CATEGORIES:Chess Club
ATTACH;FMTTYPE=image/png:https://tbflibrary.org/wp-content/uploads/2021/06/New-Chess-Graphic.png
ORGANIZER;CN="Thomas Beaver Free Library":MAILTO:tbflstaff@ptd.net
END:VEVENT
BEGIN:VEVENT
DTSTART;TZID=America/New_York:20260430T170000
DTEND;TZID=America/New_York:20260430T193000
DTSTAMP:20260422T074131
CREATED:20260112T234530Z
LAST-MODIFIED:20260112T234531Z
UID:10004876-1777568400-1777577400@tbflibrary.org
SUMMARY:Chess Club
DESCRIPTION:Join us for a fun lively evening of chess! All levels and ages are welcome.
URL:https://tbflibrary.org/event/chess-club-at-the-thomas-beaver-free-library-2-2/2026-04-30/
LOCATION:Thomas Beaver Free Library\, 317 Ferry Street\, Danville\, PA\, 17521\, United States
CATEGORIES:Chess Club
ATTACH;FMTTYPE=image/png:https://tbflibrary.org/wp-content/uploads/2021/06/New-Chess-Graphic.png
ORGANIZER;CN="Thomas Beaver Free Library":MAILTO:tbflstaff@ptd.net
END:VEVENT
BEGIN:VEVENT
DTSTART;TZID=America/New_York:20260507T170000
DTEND;TZID=America/New_York:20260507T193000
DTSTAMP:20260422T074131
CREATED:20260112T234530Z
LAST-MODIFIED:20260112T234531Z
UID:10004877-1778173200-1778182200@tbflibrary.org
SUMMARY:Chess Club
DESCRIPTION:Join us for a fun lively evening of chess! All levels and ages are welcome.
URL:https://tbflibrary.org/event/chess-club-at-the-thomas-beaver-free-library-2-2/2026-05-07/
LOCATION:Thomas Beaver Free Library\, 317 Ferry Street\, Danville\, PA\, 17521\, United States
CATEGORIES:Chess Club
ATTACH;FMTTYPE=image/png:https://tbflibrary.org/wp-content/uploads/2021/06/New-Chess-Graphic.png
ORGANIZER;CN="Thomas Beaver Free Library":MAILTO:tbflstaff@ptd.net
END:VEVENT
BEGIN:VEVENT
DTSTART;TZID=America/New_York:20260514T170000
DTEND;TZID=America/New_York:20260514T193000
DTSTAMP:20260422T074131
CREATED:20260112T234530Z
LAST-MODIFIED:20260112T234531Z
UID:10004878-1778778000-1778787000@tbflibrary.org
SUMMARY:Chess Club
DESCRIPTION:Join us for a fun lively evening of chess! All levels and ages are welcome.
URL:https://tbflibrary.org/event/chess-club-at-the-thomas-beaver-free-library-2-2/2026-05-14/
LOCATION:Thomas Beaver Free Library\, 317 Ferry Street\, Danville\, PA\, 17521\, United States
CATEGORIES:Chess Club
ATTACH;FMTTYPE=image/png:https://tbflibrary.org/wp-content/uploads/2021/06/New-Chess-Graphic.png
ORGANIZER;CN="Thomas Beaver Free Library":MAILTO:tbflstaff@ptd.net
END:VEVENT
BEGIN:VEVENT
DTSTART;TZID=America/New_York:20260521T170000
DTEND;TZID=America/New_York:20260521T193000
DTSTAMP:20260422T074131
CREATED:20260112T234530Z
LAST-MODIFIED:20260112T234531Z
UID:10004879-1779382800-1779391800@tbflibrary.org
SUMMARY:Chess Club
DESCRIPTION:Join us for a fun lively evening of chess! All levels and ages are welcome.
URL:https://tbflibrary.org/event/chess-club-at-the-thomas-beaver-free-library-2-2/2026-05-21/
LOCATION:Thomas Beaver Free Library\, 317 Ferry Street\, Danville\, PA\, 17521\, United States
CATEGORIES:Chess Club
ATTACH;FMTTYPE=image/png:https://tbflibrary.org/wp-content/uploads/2021/06/New-Chess-Graphic.png
ORGANIZER;CN="Thomas Beaver Free Library":MAILTO:tbflstaff@ptd.net
END:VEVENT
BEGIN:VEVENT
DTSTART;TZID=America/New_York:20260528T170000
DTEND;TZID=America/New_York:20260528T193000
DTSTAMP:20260422T074131
CREATED:20260112T234530Z
LAST-MODIFIED:20260112T234531Z
UID:10004880-1779987600-1779996600@tbflibrary.org
SUMMARY:Chess Club
DESCRIPTION:Join us for a fun lively evening of chess! All levels and ages are welcome.
URL:https://tbflibrary.org/event/chess-club-at-the-thomas-beaver-free-library-2-2/2026-05-28/
LOCATION:Thomas Beaver Free Library\, 317 Ferry Street\, Danville\, PA\, 17521\, United States
CATEGORIES:Chess Club
ATTACH;FMTTYPE=image/png:https://tbflibrary.org/wp-content/uploads/2021/06/New-Chess-Graphic.png
ORGANIZER;CN="Thomas Beaver Free Library":MAILTO:tbflstaff@ptd.net
END:VEVENT
BEGIN:VEVENT
DTSTART;TZID=America/New_York:20260604T170000
DTEND;TZID=America/New_York:20260604T193000
DTSTAMP:20260422T074131
CREATED:20260112T234530Z
LAST-MODIFIED:20260112T234531Z
UID:10004881-1780592400-1780601400@tbflibrary.org
SUMMARY:Chess Club
DESCRIPTION:Join us for a fun lively evening of chess! All levels and ages are welcome.
URL:https://tbflibrary.org/event/chess-club-at-the-thomas-beaver-free-library-2-2/2026-06-04/
LOCATION:Thomas Beaver Free Library\, 317 Ferry Street\, Danville\, PA\, 17521\, United States
CATEGORIES:Chess Club
ATTACH;FMTTYPE=image/png:https://tbflibrary.org/wp-content/uploads/2021/06/New-Chess-Graphic.png
ORGANIZER;CN="Thomas Beaver Free Library":MAILTO:tbflstaff@ptd.net
END:VEVENT
BEGIN:VEVENT
DTSTART;TZID=America/New_York:20260611T170000
DTEND;TZID=America/New_York:20260611T193000
DTSTAMP:20260422T074131
CREATED:20260112T234530Z
LAST-MODIFIED:20260112T234531Z
UID:10004882-1781197200-1781206200@tbflibrary.org
SUMMARY:Chess Club
DESCRIPTION:Join us for a fun lively evening of chess! All levels and ages are welcome.
URL:https://tbflibrary.org/event/chess-club-at-the-thomas-beaver-free-library-2-2/2026-06-11/
LOCATION:Thomas Beaver Free Library\, 317 Ferry Street\, Danville\, PA\, 17521\, United States
CATEGORIES:Chess Club
ATTACH;FMTTYPE=image/png:https://tbflibrary.org/wp-content/uploads/2021/06/New-Chess-Graphic.png
ORGANIZER;CN="Thomas Beaver Free Library":MAILTO:tbflstaff@ptd.net
END:VEVENT
BEGIN:VEVENT
DTSTART;TZID=America/New_York:20260618T170000
DTEND;TZID=America/New_York:20260618T193000
DTSTAMP:20260422T074131
CREATED:20260112T234530Z
LAST-MODIFIED:20260112T234531Z
UID:10004883-1781802000-1781811000@tbflibrary.org
SUMMARY:Chess Club
DESCRIPTION:Join us for a fun lively evening of chess! All levels and ages are welcome.
URL:https://tbflibrary.org/event/chess-club-at-the-thomas-beaver-free-library-2-2/2026-06-18/
LOCATION:Thomas Beaver Free Library\, 317 Ferry Street\, Danville\, PA\, 17521\, United States
CATEGORIES:Chess Club
ATTACH;FMTTYPE=image/png:https://tbflibrary.org/wp-content/uploads/2021/06/New-Chess-Graphic.png
ORGANIZER;CN="Thomas Beaver Free Library":MAILTO:tbflstaff@ptd.net
END:VEVENT
BEGIN:VEVENT
DTSTART;TZID=America/New_York:20260625T170000
DTEND;TZID=America/New_York:20260625T193000
DTSTAMP:20260422T074131
CREATED:20260112T234530Z
LAST-MODIFIED:20260112T234531Z
UID:10004884-1782406800-1782415800@tbflibrary.org
SUMMARY:Chess Club
DESCRIPTION:Join us for a fun lively evening of chess! All levels and ages are welcome.
URL:https://tbflibrary.org/event/chess-club-at-the-thomas-beaver-free-library-2-2/2026-06-25/
LOCATION:Thomas Beaver Free Library\, 317 Ferry Street\, Danville\, PA\, 17521\, United States
CATEGORIES:Chess Club
ATTACH;FMTTYPE=image/png:https://tbflibrary.org/wp-content/uploads/2021/06/New-Chess-Graphic.png
ORGANIZER;CN="Thomas Beaver Free Library":MAILTO:tbflstaff@ptd.net
END:VEVENT
BEGIN:VEVENT
DTSTART;TZID=America/New_York:20260702T170000
DTEND;TZID=America/New_York:20260702T193000
DTSTAMP:20260422T074131
CREATED:20260112T234530Z
LAST-MODIFIED:20260112T234531Z
UID:10004885-1783011600-1783020600@tbflibrary.org
SUMMARY:Chess Club
DESCRIPTION:Join us for a fun lively evening of chess! All levels and ages are welcome.
URL:https://tbflibrary.org/event/chess-club-at-the-thomas-beaver-free-library-2-2/2026-07-02/
LOCATION:Thomas Beaver Free Library\, 317 Ferry Street\, Danville\, PA\, 17521\, United States
CATEGORIES:Chess Club
ATTACH;FMTTYPE=image/png:https://tbflibrary.org/wp-content/uploads/2021/06/New-Chess-Graphic.png
ORGANIZER;CN="Thomas Beaver Free Library":MAILTO:tbflstaff@ptd.net
END:VEVENT
BEGIN:VEVENT
DTSTART;TZID=America/New_York:20260709T170000
DTEND;TZID=America/New_York:20260709T193000
DTSTAMP:20260422T074131
CREATED:20260112T234530Z
LAST-MODIFIED:20260112T234531Z
UID:10004886-1783616400-1783625400@tbflibrary.org
SUMMARY:Chess Club
DESCRIPTION:Join us for a fun lively evening of chess! All levels and ages are welcome.
URL:https://tbflibrary.org/event/chess-club-at-the-thomas-beaver-free-library-2-2/2026-07-09/
LOCATION:Thomas Beaver Free Library\, 317 Ferry Street\, Danville\, PA\, 17521\, United States
CATEGORIES:Chess Club
ATTACH;FMTTYPE=image/png:https://tbflibrary.org/wp-content/uploads/2021/06/New-Chess-Graphic.png
ORGANIZER;CN="Thomas Beaver Free Library":MAILTO:tbflstaff@ptd.net
END:VEVENT
BEGIN:VEVENT
DTSTART;TZID=America/New_York:20260716T170000
DTEND;TZID=America/New_York:20260716T193000
DTSTAMP:20260422T074131
CREATED:20260112T234530Z
LAST-MODIFIED:20260112T234531Z
UID:10004887-1784221200-1784230200@tbflibrary.org
SUMMARY:Chess Club
DESCRIPTION:Join us for a fun lively evening of chess! All levels and ages are welcome.
URL:https://tbflibrary.org/event/chess-club-at-the-thomas-beaver-free-library-2-2/2026-07-16/
LOCATION:Thomas Beaver Free Library\, 317 Ferry Street\, Danville\, PA\, 17521\, United States
CATEGORIES:Chess Club
ATTACH;FMTTYPE=image/png:https://tbflibrary.org/wp-content/uploads/2021/06/New-Chess-Graphic.png
ORGANIZER;CN="Thomas Beaver Free Library":MAILTO:tbflstaff@ptd.net
END:VEVENT
BEGIN:VEVENT
DTSTART;TZID=America/New_York:20260723T170000
DTEND;TZID=America/New_York:20260723T193000
DTSTAMP:20260422T074131
CREATED:20260112T234530Z
LAST-MODIFIED:20260112T234531Z
UID:10004888-1784826000-1784835000@tbflibrary.org
SUMMARY:Chess Club
DESCRIPTION:Join us for a fun lively evening of chess! All levels and ages are welcome.
URL:https://tbflibrary.org/event/chess-club-at-the-thomas-beaver-free-library-2-2/2026-07-23/
LOCATION:Thomas Beaver Free Library\, 317 Ferry Street\, Danville\, PA\, 17521\, United States
CATEGORIES:Chess Club
ATTACH;FMTTYPE=image/png:https://tbflibrary.org/wp-content/uploads/2021/06/New-Chess-Graphic.png
ORGANIZER;CN="Thomas Beaver Free Library":MAILTO:tbflstaff@ptd.net
END:VEVENT
BEGIN:VEVENT
DTSTART;TZID=America/New_York:20260730T170000
DTEND;TZID=America/New_York:20260730T193000
DTSTAMP:20260422T074131
CREATED:20260112T234530Z
LAST-MODIFIED:20260112T234531Z
UID:10004889-1785430800-1785439800@tbflibrary.org
SUMMARY:Chess Club
DESCRIPTION:Join us for a fun lively evening of chess! All levels and ages are welcome.
URL:https://tbflibrary.org/event/chess-club-at-the-thomas-beaver-free-library-2-2/2026-07-30/
LOCATION:Thomas Beaver Free Library\, 317 Ferry Street\, Danville\, PA\, 17521\, United States
CATEGORIES:Chess Club
ATTACH;FMTTYPE=image/png:https://tbflibrary.org/wp-content/uploads/2021/06/New-Chess-Graphic.png
ORGANIZER;CN="Thomas Beaver Free Library":MAILTO:tbflstaff@ptd.net
END:VEVENT
BEGIN:VEVENT
DTSTART;TZID=America/New_York:20260806T170000
DTEND;TZID=America/New_York:20260806T193000
DTSTAMP:20260422T074131
CREATED:20260112T234530Z
LAST-MODIFIED:20260112T234531Z
UID:10004890-1786035600-1786044600@tbflibrary.org
SUMMARY:Chess Club
DESCRIPTION:Join us for a fun lively evening of chess! All levels and ages are welcome.
URL:https://tbflibrary.org/event/chess-club-at-the-thomas-beaver-free-library-2-2/2026-08-06/
LOCATION:Thomas Beaver Free Library\, 317 Ferry Street\, Danville\, PA\, 17521\, United States
CATEGORIES:Chess Club
ATTACH;FMTTYPE=image/png:https://tbflibrary.org/wp-content/uploads/2021/06/New-Chess-Graphic.png
ORGANIZER;CN="Thomas Beaver Free Library":MAILTO:tbflstaff@ptd.net
END:VEVENT
BEGIN:VEVENT
DTSTART;TZID=America/New_York:20260813T170000
DTEND;TZID=America/New_York:20260813T193000
DTSTAMP:20260422T074131
CREATED:20260112T234530Z
LAST-MODIFIED:20260112T234531Z
UID:10004891-1786640400-1786649400@tbflibrary.org
SUMMARY:Chess Club
DESCRIPTION:Join us for a fun lively evening of chess! All levels and ages are welcome.
URL:https://tbflibrary.org/event/chess-club-at-the-thomas-beaver-free-library-2-2/2026-08-13/
LOCATION:Thomas Beaver Free Library\, 317 Ferry Street\, Danville\, PA\, 17521\, United States
CATEGORIES:Chess Club
ATTACH;FMTTYPE=image/png:https://tbflibrary.org/wp-content/uploads/2021/06/New-Chess-Graphic.png
ORGANIZER;CN="Thomas Beaver Free Library":MAILTO:tbflstaff@ptd.net
END:VEVENT
BEGIN:VEVENT
DTSTART;TZID=America/New_York:20260820T170000
DTEND;TZID=America/New_York:20260820T193000
DTSTAMP:20260422T074131
CREATED:20260112T234530Z
LAST-MODIFIED:20260112T234531Z
UID:10004892-1787245200-1787254200@tbflibrary.org
SUMMARY:Chess Club
DESCRIPTION:Join us for a fun lively evening of chess! All levels and ages are welcome.
URL:https://tbflibrary.org/event/chess-club-at-the-thomas-beaver-free-library-2-2/2026-08-20/
LOCATION:Thomas Beaver Free Library\, 317 Ferry Street\, Danville\, PA\, 17521\, United States
CATEGORIES:Chess Club
ATTACH;FMTTYPE=image/png:https://tbflibrary.org/wp-content/uploads/2021/06/New-Chess-Graphic.png
ORGANIZER;CN="Thomas Beaver Free Library":MAILTO:tbflstaff@ptd.net
END:VEVENT
BEGIN:VEVENT
DTSTART;TZID=America/New_York:20260827T170000
DTEND;TZID=America/New_York:20260827T193000
DTSTAMP:20260422T074131
CREATED:20260112T234530Z
LAST-MODIFIED:20260112T234531Z
UID:10004893-1787850000-1787859000@tbflibrary.org
SUMMARY:Chess Club
DESCRIPTION:Join us for a fun lively evening of chess! All levels and ages are welcome.
URL:https://tbflibrary.org/event/chess-club-at-the-thomas-beaver-free-library-2-2/2026-08-27/
LOCATION:Thomas Beaver Free Library\, 317 Ferry Street\, Danville\, PA\, 17521\, United States
CATEGORIES:Chess Club
ATTACH;FMTTYPE=image/png:https://tbflibrary.org/wp-content/uploads/2021/06/New-Chess-Graphic.png
ORGANIZER;CN="Thomas Beaver Free Library":MAILTO:tbflstaff@ptd.net
END:VEVENT
BEGIN:VEVENT
DTSTART;TZID=America/New_York:20260903T170000
DTEND;TZID=America/New_York:20260903T193000
DTSTAMP:20260422T074131
CREATED:20260112T234530Z
LAST-MODIFIED:20260112T234531Z
UID:10004894-1788454800-1788463800@tbflibrary.org
SUMMARY:Chess Club
DESCRIPTION:Join us for a fun lively evening of chess! All levels and ages are welcome.
URL:https://tbflibrary.org/event/chess-club-at-the-thomas-beaver-free-library-2-2/2026-09-03/
LOCATION:Thomas Beaver Free Library\, 317 Ferry Street\, Danville\, PA\, 17521\, United States
CATEGORIES:Chess Club
ATTACH;FMTTYPE=image/png:https://tbflibrary.org/wp-content/uploads/2021/06/New-Chess-Graphic.png
ORGANIZER;CN="Thomas Beaver Free Library":MAILTO:tbflstaff@ptd.net
END:VEVENT
BEGIN:VEVENT
DTSTART;TZID=America/New_York:20260910T170000
DTEND;TZID=America/New_York:20260910T193000
DTSTAMP:20260422T074131
CREATED:20260112T234530Z
LAST-MODIFIED:20260112T234531Z
UID:10004895-1789059600-1789068600@tbflibrary.org
SUMMARY:Chess Club
DESCRIPTION:Join us for a fun lively evening of chess! All levels and ages are welcome.
URL:https://tbflibrary.org/event/chess-club-at-the-thomas-beaver-free-library-2-2/2026-09-10/
LOCATION:Thomas Beaver Free Library\, 317 Ferry Street\, Danville\, PA\, 17521\, United States
CATEGORIES:Chess Club
ATTACH;FMTTYPE=image/png:https://tbflibrary.org/wp-content/uploads/2021/06/New-Chess-Graphic.png
ORGANIZER;CN="Thomas Beaver Free Library":MAILTO:tbflstaff@ptd.net
END:VEVENT
BEGIN:VEVENT
DTSTART;TZID=America/New_York:20260917T170000
DTEND;TZID=America/New_York:20260917T193000
DTSTAMP:20260422T074131
CREATED:20260112T234530Z
LAST-MODIFIED:20260112T234531Z
UID:10004896-1789664400-1789673400@tbflibrary.org
SUMMARY:Chess Club
DESCRIPTION:Join us for a fun lively evening of chess! All levels and ages are welcome.
URL:https://tbflibrary.org/event/chess-club-at-the-thomas-beaver-free-library-2-2/2026-09-17/
LOCATION:Thomas Beaver Free Library\, 317 Ferry Street\, Danville\, PA\, 17521\, United States
CATEGORIES:Chess Club
ATTACH;FMTTYPE=image/png:https://tbflibrary.org/wp-content/uploads/2021/06/New-Chess-Graphic.png
ORGANIZER;CN="Thomas Beaver Free Library":MAILTO:tbflstaff@ptd.net
END:VEVENT
BEGIN:VEVENT
DTSTART;TZID=America/New_York:20260924T170000
DTEND;TZID=America/New_York:20260924T193000
DTSTAMP:20260422T074131
CREATED:20260112T234530Z
LAST-MODIFIED:20260112T234531Z
UID:10004897-1790269200-1790278200@tbflibrary.org
SUMMARY:Chess Club
DESCRIPTION:Join us for a fun lively evening of chess! All levels and ages are welcome.
URL:https://tbflibrary.org/event/chess-club-at-the-thomas-beaver-free-library-2-2/2026-09-24/
LOCATION:Thomas Beaver Free Library\, 317 Ferry Street\, Danville\, PA\, 17521\, United States
CATEGORIES:Chess Club
ATTACH;FMTTYPE=image/png:https://tbflibrary.org/wp-content/uploads/2021/06/New-Chess-Graphic.png
ORGANIZER;CN="Thomas Beaver Free Library":MAILTO:tbflstaff@ptd.net
END:VEVENT
BEGIN:VEVENT
DTSTART;TZID=America/New_York:20261001T170000
DTEND;TZID=America/New_York:20261001T193000
DTSTAMP:20260422T074131
CREATED:20260112T234530Z
LAST-MODIFIED:20260112T234531Z
UID:10004898-1790874000-1790883000@tbflibrary.org
SUMMARY:Chess Club
DESCRIPTION:Join us for a fun lively evening of chess! All levels and ages are welcome.
URL:https://tbflibrary.org/event/chess-club-at-the-thomas-beaver-free-library-2-2/2026-10-01/
LOCATION:Thomas Beaver Free Library\, 317 Ferry Street\, Danville\, PA\, 17521\, United States
CATEGORIES:Chess Club
ATTACH;FMTTYPE=image/png:https://tbflibrary.org/wp-content/uploads/2021/06/New-Chess-Graphic.png
ORGANIZER;CN="Thomas Beaver Free Library":MAILTO:tbflstaff@ptd.net
END:VEVENT
BEGIN:VEVENT
DTSTART;TZID=America/New_York:20261008T170000
DTEND;TZID=America/New_York:20261008T193000
DTSTAMP:20260422T074131
CREATED:20260112T234530Z
LAST-MODIFIED:20260112T234531Z
UID:10004899-1791478800-1791487800@tbflibrary.org
SUMMARY:Chess Club
DESCRIPTION:Join us for a fun lively evening of chess! All levels and ages are welcome.
URL:https://tbflibrary.org/event/chess-club-at-the-thomas-beaver-free-library-2-2/2026-10-08/
LOCATION:Thomas Beaver Free Library\, 317 Ferry Street\, Danville\, PA\, 17521\, United States
CATEGORIES:Chess Club
ATTACH;FMTTYPE=image/png:https://tbflibrary.org/wp-content/uploads/2021/06/New-Chess-Graphic.png
ORGANIZER;CN="Thomas Beaver Free Library":MAILTO:tbflstaff@ptd.net
END:VEVENT
BEGIN:VEVENT
DTSTART;TZID=America/New_York:20261015T170000
DTEND;TZID=America/New_York:20261015T193000
DTSTAMP:20260422T074131
CREATED:20260112T234530Z
LAST-MODIFIED:20260112T234531Z
UID:10004900-1792083600-1792092600@tbflibrary.org
SUMMARY:Chess Club
DESCRIPTION:Join us for a fun lively evening of chess! All levels and ages are welcome.
URL:https://tbflibrary.org/event/chess-club-at-the-thomas-beaver-free-library-2-2/2026-10-15/
LOCATION:Thomas Beaver Free Library\, 317 Ferry Street\, Danville\, PA\, 17521\, United States
CATEGORIES:Chess Club
ATTACH;FMTTYPE=image/png:https://tbflibrary.org/wp-content/uploads/2021/06/New-Chess-Graphic.png
ORGANIZER;CN="Thomas Beaver Free Library":MAILTO:tbflstaff@ptd.net
END:VEVENT
BEGIN:VEVENT
DTSTART;TZID=America/New_York:20261022T170000
DTEND;TZID=America/New_York:20261022T193000
DTSTAMP:20260422T074131
CREATED:20260112T234530Z
LAST-MODIFIED:20260112T234531Z
UID:10004901-1792688400-1792697400@tbflibrary.org
SUMMARY:Chess Club
DESCRIPTION:Join us for a fun lively evening of chess! All levels and ages are welcome.
URL:https://tbflibrary.org/event/chess-club-at-the-thomas-beaver-free-library-2-2/2026-10-22/
LOCATION:Thomas Beaver Free Library\, 317 Ferry Street\, Danville\, PA\, 17521\, United States
CATEGORIES:Chess Club
ATTACH;FMTTYPE=image/png:https://tbflibrary.org/wp-content/uploads/2021/06/New-Chess-Graphic.png
ORGANIZER;CN="Thomas Beaver Free Library":MAILTO:tbflstaff@ptd.net
END:VEVENT
BEGIN:VEVENT
DTSTART;TZID=America/New_York:20261029T170000
DTEND;TZID=America/New_York:20261029T193000
DTSTAMP:20260422T074131
CREATED:20260112T234530Z
LAST-MODIFIED:20260112T234531Z
UID:10004902-1793293200-1793302200@tbflibrary.org
SUMMARY:Chess Club
DESCRIPTION:Join us for a fun lively evening of chess! All levels and ages are welcome.
URL:https://tbflibrary.org/event/chess-club-at-the-thomas-beaver-free-library-2-2/2026-10-29/
LOCATION:Thomas Beaver Free Library\, 317 Ferry Street\, Danville\, PA\, 17521\, United States
CATEGORIES:Chess Club
ATTACH;FMTTYPE=image/png:https://tbflibrary.org/wp-content/uploads/2021/06/New-Chess-Graphic.png
ORGANIZER;CN="Thomas Beaver Free Library":MAILTO:tbflstaff@ptd.net
END:VEVENT
BEGIN:VEVENT
DTSTART;TZID=America/New_York:20261105T170000
DTEND;TZID=America/New_York:20261105T193000
DTSTAMP:20260422T074131
CREATED:20260112T234530Z
LAST-MODIFIED:20260112T234531Z
UID:10004903-1793898000-1793907000@tbflibrary.org
SUMMARY:Chess Club
DESCRIPTION:Join us for a fun lively evening of chess! All levels and ages are welcome.
URL:https://tbflibrary.org/event/chess-club-at-the-thomas-beaver-free-library-2-2/2026-11-05/
LOCATION:Thomas Beaver Free Library\, 317 Ferry Street\, Danville\, PA\, 17521\, United States
CATEGORIES:Chess Club
ATTACH;FMTTYPE=image/png:https://tbflibrary.org/wp-content/uploads/2021/06/New-Chess-Graphic.png
ORGANIZER;CN="Thomas Beaver Free Library":MAILTO:tbflstaff@ptd.net
END:VEVENT
BEGIN:VEVENT
DTSTART;TZID=America/New_York:20261112T170000
DTEND;TZID=America/New_York:20261112T193000
DTSTAMP:20260422T074131
CREATED:20260112T234530Z
LAST-MODIFIED:20260112T234531Z
UID:10004904-1794502800-1794511800@tbflibrary.org
SUMMARY:Chess Club
DESCRIPTION:Join us for a fun lively evening of chess! All levels and ages are welcome.
URL:https://tbflibrary.org/event/chess-club-at-the-thomas-beaver-free-library-2-2/2026-11-12/
LOCATION:Thomas Beaver Free Library\, 317 Ferry Street\, Danville\, PA\, 17521\, United States
CATEGORIES:Chess Club
ATTACH;FMTTYPE=image/png:https://tbflibrary.org/wp-content/uploads/2021/06/New-Chess-Graphic.png
ORGANIZER;CN="Thomas Beaver Free Library":MAILTO:tbflstaff@ptd.net
END:VEVENT
END:VCALENDAR